BEGIN:VCALENDAR
VERSION:2.0
PRODID:-//ChamberMaster//Event Calendar 2.0//EN
METHOD:PUBLISH
X-PUBLISHED-TTL:P3D
REFRESH-INTERVAL:P3D
CALSCALE:GREGORIAN
BEGIN:VEVENT
DTSTART:20111029T170000Z
DTEND:20111029T203000Z
X-MICROSOFT-CDO-ALLDAYEVENT:FALSE
SUMMARY:10th Annual Pet Costume Contest at Ruff Haus Pets
DESCRIPTION:10TH ANNUAL PET COSTUME CONTEST\n\n	\n\n	OCTOBER 29TH at 4652 N. ROCKWELL\n\n	\n\n	Help Ruff Haus celebrate 10 years with our biggest Halloween party ever - and help the dogs at New Leash On Life find their forever homes! This year Amy Sayre (www.amysayre.com) will be on hand to photograph pets against a fall backdrop of hay and pumpkins. Cost is just $10 for one dog\, $15 for two or more and includes a print. All those proceeds benefit New Leash On Life \n\n	\n\n	NOON TO 3 P.M.\n\n	Meet adoptable dogs from New Leash On Life\n\n	\n\n	2 P.M.\n\n	Costume judging: One winner will be picked for each of the following:\n\n	\n		Scariest\n	\n		Cutest\n	\n		Most Creative\n\n3 P.M.\n\nWinner of No. Bones About It announced\n\n\n\n\n\nNo. BONES ABOUT IT\n\nThroughout October\, stop by Ruff Haus to guess the number of beer bones in a 6 gallon beer fermenter.\n\n\n\nJust $2 gets you 1 guess\; $5 gets you 3 guesses.  All proceeds benefit the dogs at New Leash On Life.  Whoever guesses closest to the actual number of biscuits gets a $50 Ruff Haus gift certificate and a Brew For Two class at Brew Camp!\n\n\n\n\n\nREFRESHMENTS WILL BE SERVED FOR HUMANS AND CANINES
X-ALT-DESC;FMTTYPE=text/html:<p>\n	<br />\n	<span style="font-size: 18px"><span style="color: #ff8c00"><strong>10TH ANNUAL PET COSTUME CONTEST</strong></span></span><br />\n	<br />\n	<span style="font-size: 16px"><span style="color: #000000"><strong>OCTOBER 29TH at 4652 N. ROCKWELL</strong></span></span><br />\n	<br />\n	<span style="color: #000000">Help Ruff Haus celebrate 10 years with our biggest Halloween party ever - and help the dogs at New Leash On Life find their forever homes! This year&nbsp\;<font size="2">Amy Sayre (</font><a href="http://www.amysayre.com/" target="_blank" title="This external link will open in a new window"><font color="#0066cc" size="2">www.amysayre.com</font></a><font size="2">) </font>will be on hand to photograph pets against a fall backdrop of hay and pumpkins. Cost is just $10 for one dog\, $15 for two or more and includes a print. All those proceeds benefit New Leash On Life<span _fck_bookmark="1" style="display: none">&nbsp\;</span><br />\n	<br />\n	<strong>NOON TO 3 P.M.</strong><br />\n	Meet adoptable dogs from New Leash On Life<br />\n	<br />\n	<strong>2 P.M.</strong><br />\n	Costume judging: One winner will be picked for each of the following:</span></p>\n<ul>\n	<li>\n		<span style="color: #000000">Scariest</span></li>\n	<li>\n		<span style="color: #000000">Cutest</span></li>\n	<li>\n		<span style="color: #000000">Most Creative</span></li>\n</ul>\n<span style="color: #000000"><strong>3 P.M.</strong><br />\nWinner of No. Bones About It announced<br />\n<br />\n<br />\n<u><strong>No. BONES ABOUT IT</strong></u><br />\nThroughout October\, stop by Ruff Haus to guess the number of beer bones in a 6 gallon beer fermenter.<br />\n<br />\nJust $2 gets you 1 guess\; $5 gets you 3 guesses.&nbsp\; All proceeds benefit the dogs at New Leash On Life.&nbsp\; Whoever guesses closest to the actual number of biscuits gets a $50 Ruff Haus gift certificate and a Brew For Two class at Brew Camp!</span><br />\n<br />\n<br />\n<span style="font-size: 14px"><span style="color: #ff8c00"><strong>REFRESHMENTS WILL BE SERVED FOR HUMANS AND CANINES</strong></span></span><br />\n
LOCATION:Ruff Haus Pets 4652 N. Rockwell Street
UID:e.697.2157
SEQUENCE:3
DTSTAMP:20260420T094851Z
URL:https://www.lincolnsquare.org/events/details/10th-annual-pet-costume-contest-at-ruff-haus-pets-2157
END:VEVENT

END:VCALENDAR
