BEGIN:VCALENDAR
VERSION:2.0
PRODID:-//ChamberMaster//Event Calendar 2.0//EN
METHOD:PUBLISH
X-PUBLISHED-TTL:P3D
REFRESH-INTERVAL:P3D
CALSCALE:GREGORIAN
BEGIN:VEVENT
DTSTART:20110802T233000Z
DTEND:20110803T010000Z
X-MICROSOFT-CDO-ALLDAYEVENT:FALSE
SUMMARY:1st Annual National Night Out Against Violence 5K Run
DESCRIPTION:The 20th District Community Policing Office and The Runner's Edge Present\n\n	 \n\n	The 1st Annual National Night Out Against Violence 5K Run\n\n	  \n\n	Where: Assemble at Margate Park\n\n	    4921 N. Marine Drive\n\n	When: Tuesday\, August 2\, 2011\, 6:30pm\n\n	Cost: $30.00 per Runner\, includes Goodie Bag\, T-Shirt\,\n\n	            and awards for various age and gender divisions.\n\n	  \n\n	\n\n	Packet Pick up is at The Runners's Edge Monday\, August 1 from 12:00pm to 6:00pm and at the race starting at 5:00pm.\n\n	\n\n	Runners's Edge is located at 5243 N. Clark Street\n\n	\n\n	\n\n	Proceeds of the run will be donated to the Chicago Police Memorial Foundation\n\n	\n\n	Awards and Post race refreshments and activities provided at McCutcheon School\, 4865 N. Sheridan\n\n	\n\n	\n\n	Call to Register or For More Information\n\n	\n\n	 \n\n	20th District Community Policing Office\n\n	5400 N. Lincoln Avenue\n\n	Chicago\, IL 60625\n\n	312.742.8770\n\n	\n\n	The Runner's Edge\n\n	5243 N. Clark Street\n\n	Chicago\, IL 60640\n\n	773-649-0853
X-ALT-DESC;FMTTYPE=text/html:<p style="text-align: center">\n	<strong><span style="color: #a9a9a9"><span style="font-size: 14px">The 20th District Community Policing Office and The Runner&#39\;s Edge Present</span></span></strong><br />\n	&nbsp\;</p>\n<p style="text-align: center">\n	<span style="color: #000000"><span style="font-size: 18px"><strong>The 1st Annual National Night Out Against Violence 5K Run</strong></span></span></p>\n<p style="text-align: center">\n	<span _fck_bookmark="1" style="display: none">&nbsp\;</span><span _fck_bookmark="1" id="cke_bm_117S" style="display: none">&nbsp\;</span><br />\n	<span style="color: #000000"><strong>Where: </strong></span><span style="color: #a9a9a9">Assemble at Margate Park<br />\n	&nbsp\;&nbsp\;&nbsp\;&nbsp\;4921 N. Marine Drive</span><br />\n	<span style="color: #000000"><strong>When:</strong></span> <span style="color: #a9a9a9">Tuesday\, August 2\, 2011\, 6:30pm</span><br />\n	<span style="color: #000000"><strong>Cost: </strong></span><span style="color: #a9a9a9">$30.00 per Runner\, includes Goodie Bag\, T-Shirt\,<br />\n	&nbsp\;&nbsp\;&nbsp\;&nbsp\;&nbsp\;&nbsp\;&nbsp\;&nbsp\;&nbsp\;&nbsp\;&nbsp\; and awards for various age and gender divisions.</span></p>\n<p style="text-align: center">\n	<span _fck_bookmark="1" style="display: none">&nbsp\;</span><span _fck_bookmark="1" id="cke_bm_117E" style="display: none">&nbsp\;</span></p>\n<p style="text-align: center">\n	<br />\n	<span style="color: #000000">Packet Pick up is at The Runners&#39\;s Edge Monday\, August 1 from 12:00pm to 6:00pm and at the race starting at 5:00pm.</span><br />\n	<br />\n	<span style="color: #a9a9a9">Runners&#39\;s Edge is located at 5243 N. Clark Street</span><br />\n	<br />\n	<br />\n	<span style="color: #000000">Proceeds of the run will be donated to the Chicago Police Memorial Foundation</span><br />\n	<br />\n	<span style="color: #a9a9a9">Awards and Post race refreshments and activities provided at McCutcheon School\, 4865 N. Sheridan</span><br />\n	<br />\n	<br />\n	<span style="color: #000000">Call to Register or For More Information</span><br />\n	<br />\n	&nbsp\;</p>\n<p>\n	<span style="color: #000000"><strong>20th District Community Policing Office</strong></span><br />\n	<span style="color: #a9a9a9">5400 N. Lincoln Avenue<br />\n	Chicago\, IL 60625<br />\n	312.742.8770</span><br />\n	<br />\n	<span style="color: #000000"><strong>The Runner&#39\;s Edge</strong></span><br />\n	<span style="color: #a9a9a9">5243 N. Clark Street<br />\n	Chicago\, IL 60640<br />\n	773-649-0853</span></p>\n
LOCATION:Margate Park 4921 N. Marine Drive
UID:e.697.1310
SEQUENCE:3
DTSTAMP:20260420T123955Z
URL:https://www.lincolnsquare.org/events/details/1st-annual-national-night-out-against-violence-5k-run-1310
END:VEVENT

END:VCALENDAR
