BEGIN:VCALENDAR
VERSION:2.0
PRODID:-//ChamberMaster//Event Calendar 2.0//EN
METHOD:PUBLISH
X-PUBLISHED-TTL:P3D
REFRESH-INTERVAL:P3D
CALSCALE:GREGORIAN
BEGIN:VEVENT
DTSTART;VALUE=DATE:20120807
DTEND;VALUE=DATE:20120808
TRANSP:TRANSPARENT
X-MICROSOFT-CDO-ALLDAYEVENT:TRUE
SUMMARY:2nd Annual National Night Out Against Violence 5K Run
DESCRIPTION:5K Run-proceeds go the the Chicago Police Memorial Foundation.
X-ALT-DESC;FMTTYPE=text/html:5K Run-proceeds go the the Chicago Police Memorial Foundation.
LOCATION:Margate Park 4921 N. Marine Drive
UID:e.697.3585
SEQUENCE:3
DTSTAMP:20260420T171235Z
URL:https://www.lincolnsquare.org/events/details/2nd-annual-national-night-out-against-violence-5k-run-3585
END:VEVENT

END:VCALENDAR
