BEGIN:VCALENDAR
VERSION:2.0
PRODID:-//ChamberMaster//Event Calendar 2.0//EN
METHOD:PUBLISH
X-PUBLISHED-TTL:P3D
REFRESH-INTERVAL:P3D
CALSCALE:GREGORIAN
BEGIN:VEVENT
DTSTART:20110728T170000Z
DTEND:20110729T010000Z
X-MICROSOFT-CDO-ALLDAYEVENT:FALSE
SUMMARY:3rd Thursday - Rescheduled Date
DESCRIPTION:Stroll along the business corridor on the third Thursday of June\, July\, and August and check out the great products and services the Lincoln Square community has to offer. \n\n\n\nThe date of this event is the rescheduled date from Thursday\, July 21\, 2011.\n\n\n\n*Vendors will set-up between 12:00pm and 4:00pm.\n\n\n\nThis
X-ALT-DESC;FMTTYPE=text/html:Stroll along the business corridor on the third Thursday of June\, July\, and August and check out the great products and services the Lincoln Square community has to offer.&nbsp\;<br />\n<br />\nThe date of this event is the rescheduled date from Thursday\, July 21\, 2011.<br />\n<br />\n<span style="font-size: 9px"><em>*Vendors will set-up between 12:00pm and 4:00pm.</em></span><br />\n<br />\n<span _fck_bookmark="1" style="display: none">This </span>
LOCATION:4700 block of N. Lincoln Avenue (Between W. Leland and W. Lawrence)
UID:e.697.1315
SEQUENCE:3
DTSTAMP:20260420T141307Z
URL:https://www.lincolnsquare.org/events/details/3rd-thursday-rescheduled-date-1315
END:VEVENT

END:VCALENDAR
