BEGIN:VCALENDAR
VERSION:2.0
PRODID:-//ChamberMaster//Event Calendar 2.0//EN
METHOD:PUBLISH
X-PUBLISHED-TTL:P3D
REFRESH-INTERVAL:P3D
CALSCALE:GREGORIAN
BEGIN:VEVENT
DTSTART:20120828T000000Z
DTEND:20120828T010000Z
X-MICROSOFT-CDO-ALLDAYEVENT:FALSE
SUMMARY:40th Ward Town Hall Meeting
DESCRIPTION:Alderman O'Connor will once again be hosting his annual Town Hall Meetings in the 40th Ward. These meetings will be held on seven different dates in various locations throughout the ward to accommodate every neighborhood. Residents of the ward are invited to come and listen to the Alderman's State of the Ward Address regarding various area specific developments and to answer any questions residents may have. The local police commander will be on hand to answer questions and concerns as well as the 40th Ward Streets and Sanitation Superintendent and Building Department representative.\n\n\n\nDates are subject to change. Please call 773-769-1140 to confirm.
X-ALT-DESC;FMTTYPE=text/html:Alderman O&rsquo\;Connor will once again be hosting his annual Town Hall Meetings in the 40th Ward. These meetings will be held on seven different dates in various locations throughout the ward to accommodate every neighborhood. Residents of the ward are invited to come and listen to the Alderman&rsquo\;s State of the Ward Address regarding various area specific developments and to answer any questions residents may have. The local police commander will be on hand to answer questions and concerns as well as the 40th Ward Streets and Sanitation Superintendent and Building Department representative.<br />\n<br />\n<em>Dates are subject to change. Please call 773-769-1140 to confirm.</em>
LOCATION:Kilmer School Auditorium 6700 N. Greenview
UID:e.697.3632
SEQUENCE:3
DTSTAMP:20260420T170755Z
URL:https://www.lincolnsquare.org/events/details/40th-ward-town-hall-meeting-3632
END:VEVENT

END:VCALENDAR
