BEGIN:VCALENDAR
VERSION:2.0
PRODID:-//ChamberMaster//Event Calendar 2.0//EN
METHOD:PUBLISH
X-PUBLISHED-TTL:P3D
REFRESH-INTERVAL:P3D
CALSCALE:GREGORIAN
BEGIN:VEVENT
DTSTART:20110127T010000Z
DTEND:20110127T030000Z
X-MICROSOFT-CDO-ALLDAYEVENT:FALSE
SUMMARY:47 Ward Aldermanic Forum
DESCRIPTION:Northcenter Neighborhood Association is hosting in partnership with Roscoe Village Neighbors\, Lakeview Action Coalition\, and Organization of the Northeast\, an aldermanic candidates forum for the 47th Ward this Wednesday\, January 26\, at Coonley School from 7-9pm.
X-ALT-DESC;FMTTYPE=text/html:<span style="font-size: medium"><span style="font-family: calibri">Northcenter Neighborhood Association&nbsp\;is hosting in partnership with Roscoe Village Neighbors\, Lakeview Action Coalition\, and Organization of the Northeast\, an aldermanic candidates forum for the 47th Ward this Wednesday\, January 26\, at Coonley School from 7-9pm.&nbsp\;</span></span><br />\n
LOCATION:Coonley School
UID:e.697.711
SEQUENCE:3
DTSTAMP:20260420T235855Z
URL:https://www.lincolnsquare.org/events/details/47-ward-aldermanic-forum-711
END:VEVENT

END:VCALENDAR
