BEGIN:VCALENDAR
VERSION:2.0
PRODID:-//ChamberMaster//Event Calendar 2.0//EN
METHOD:PUBLISH
X-PUBLISHED-TTL:P3D
REFRESH-INTERVAL:P3D
CALSCALE:GREGORIAN
BEGIN:VEVENT
DTSTART:20110216T010000Z
DTEND:20110216T030000Z
X-MICROSOFT-CDO-ALLDAYEVENT:FALSE
SUMMARY:47th Ward Forum
DESCRIPTION:The Center Square Journal and Inside Publicationshave scheduled a candidates forum for Tuesday\, February 15 at 7:00 pm at the DANK Haus\, 4740 N. Western Ave. The moderator will be Mick Dumke\, political reporter from the Chicago News Cooperative
X-ALT-DESC;FMTTYPE=text/html:<span style="font-size: 16px"><span style="font-family: times new roman\, serif"><span style="font-family: times new roman">The Center Square Journal and </span></span><a href="http://www.insideonline.com/" target="_blank"><span style="font-family: times new roman"><span style="color: #0000ff">Inside Publications</span></span></a><span style="font-family: times new roman">have scheduled a candidates forum for Tuesday\, February 15 at 7:00 pm at the DANK Haus\, 4740 N. Western Ave. The moderator will be Mick Dumke\, political reporter from the </span><a href="http://www.chicagonewscoop.org/" target="_blank"><span style="font-family: times new roman"><span style="color: #0000ff">Chicago News Cooperative</span></span></a>&nbsp\;</span>
LOCATION:DANK Haus 4740 N Western
UID:e.697.712
SEQUENCE:3
DTSTAMP:20260420T225559Z
URL:https://www.lincolnsquare.org/events/details/47th-ward-forum-712
END:VEVENT

END:VCALENDAR
