BEGIN:VCALENDAR
VERSION:2.0
PRODID:-//ChamberMaster//Event Calendar 2.0//EN
METHOD:PUBLISH
X-PUBLISHED-TTL:P3D
REFRESH-INTERVAL:P3D
CALSCALE:GREGORIAN
BEGIN:VEVENT
DTSTART:20120821T230000Z
DTEND:20120822T020000Z
X-MICROSOFT-CDO-ALLDAYEVENT:FALSE
SUMMARY:47th Ward Gardening Workshops
DESCRIPTION:The 47th Ward is offering a Gardening Workshop featuring expert and master gardeners from the neighborhood who offer a guided tour of the Gardens at the American Indian Center.
X-ALT-DESC;FMTTYPE=text/html:The <span>47th</span> Ward is offering a Gardening Workshop featuring expert and master gardeners from the neighborhood who offer a guided tour of the Gardens at the American Indian Center. 
LOCATION:American Indian Center 1630 W Wilson
UID:e.697.3581
SEQUENCE:3
DTSTAMP:20260420T170714Z
URL:https://www.lincolnsquare.org/events/details/47th-ward-gardening-workshops-3581
END:VEVENT

END:VCALENDAR
