BEGIN:VCALENDAR
VERSION:2.0
PRODID:-//ChamberMaster//Event Calendar 2.0//EN
METHOD:PUBLISH
X-PUBLISHED-TTL:P3D
REFRESH-INTERVAL:P3D
CALSCALE:GREGORIAN
BEGIN:VEVENT
DTSTART:20120411T223000Z
DTEND:20120412T010000Z
X-MICROSOFT-CDO-ALLDAYEVENT:FALSE
SUMMARY:47th Ward - "Ward Night"
DESCRIPTION:Many of you have stated that 'Ward Night' should be extended. Going forward\, 'Ward Night' will be extended one hour later.\n\n		 \n	\n		Ward Night: Wednesday's\n\n		Time: 5:30pm   8:00pm\n\n		Location: 4243 N Lincoln Ave\n\n		 \n	\n		If you have any questions\, please call the 47th Ward office at 773-868-4747.\n\n		 \n	\n		If you are not able to attend but would like the office to address a service\, policy or legislative matter\, they are happy to create presentations for groups of 5 or more. Email schedule@chicago47.org if you would like to setup a presentation.
X-ALT-DESC;FMTTYPE=text/html:<div class="post-content page-content">\n	<p>\n		<br />\n		Many of you have stated that &lsquo\;Ward Night&rsquo\; should be extended. Going forward\, &lsquo\;Ward Night&rsquo\; will be extended one hour later.<br />\n		&nbsp\;</p>\n	<p>\n		Ward Night: Wednesday&rsquo\;s<br />\n		Time: 5:30pm &ndash\; 8:00pm<br />\n		Location: 4243 N Lincoln Ave<br />\n		&nbsp\;</p>\n	<p>\n		If you have any questions\, please call the 47th Ward office at 773-868-4747.<br />\n		&nbsp\;</p>\n	<p>\n		If you are not able to attend but would like the office to address a service\, policy or legislative matter\, they are happy to create presentations for groups of 5 or more. Email schedule@chicago47.org if you would like to setup a presentation.<span _fck_bookmark="1" style="display: none">&nbsp\;</span></p>\n</div>\n
LOCATION:47th Ward Alderman's Office 4243 N. Lincoln Avenue Chicago\, IL 60625
UID:e.697.1143
SEQUENCE:3
DTSTAMP:20260419T235328Z
URL:https://www.lincolnsquare.org/events/details/47th-ward-ward-night-04-11-2012-1143
END:VEVENT

END:VCALENDAR
