BEGIN:VCALENDAR
VERSION:2.0
PRODID:-//ChamberMaster//Event Calendar 2.0//EN
METHOD:PUBLISH
X-PUBLISHED-TTL:P3D
REFRESH-INTERVAL:P3D
CALSCALE:GREGORIAN
BEGIN:VEVENT
DTSTART:20110907T220000Z
DTEND:20110908T000000Z
X-MICROSOFT-CDO-ALLDAYEVENT:FALSE
SUMMARY:47th Ward - "Ward Night"
DESCRIPTION:47th Ward Alderman Ameya Pawar will hold "Ward Night" every Wednesday evening from 5pm-7pm at the 47th Ward Alderman's Office.
X-ALT-DESC;FMTTYPE=text/html:47th Ward Alderman Ameya Pawar will hold &quot\;Ward Night&quot\;&nbsp\;every Wednesday evening from 5pm-7pm at the 47th Ward Alderman&#39\;s Office.
LOCATION:47th Ward Alderman's Office 4243 N. Lincoln Avenue Chicago\, IL 60625
UID:e.697.1112
SEQUENCE:3
DTSTAMP:20260420T112257Z
URL:https://www.lincolnsquare.org/events/details/47th-ward-ward-night-09-07-2011-1112
END:VEVENT

END:VCALENDAR
