BEGIN:VCALENDAR
VERSION:2.0
PRODID:-//ChamberMaster//Event Calendar 2.0//EN
METHOD:PUBLISH
X-PUBLISHED-TTL:P3D
REFRESH-INTERVAL:P3D
CALSCALE:GREGORIAN
BEGIN:VEVENT
DTSTART:20111005T223000Z
DTEND:20111006T010000Z
X-MICROSOFT-CDO-ALLDAYEVENT:FALSE
SUMMARY:47th Ward - "Ward Night"
DESCRIPTION:Many of you have stated that 'Ward Night' should be extended. Going forward\, 'Ward Night' will be extended one hour later.\n	\n		Ward Night: Wednesday's\n\n		Time: 5:30pm   8:00pm\n\n		Location: 4243 N Lincoln Ave\n	\n		If you have any questions\, please call the 47th Ward office at 773-868-4747.\n	\n		If you are not able to attend but would like the Ward office to address a service\, policy or legislative matter\, they are happy to create presentations for groups of 5 or more. Email schedule@chicago47.org if you would like to setup a presentation.
X-ALT-DESC;FMTTYPE=text/html:<div class="post-content page-content">\n	<p>\n		Many of you have stated that &lsquo\;Ward Night&rsquo\; should be extended. Going forward\, &lsquo\;Ward Night&rsquo\; will be extended one hour later.</p>\n	<p>\n		Ward Night: Wednesday&rsquo\;s<br />\n		Time: 5:30pm &ndash\; 8:00pm<br />\n		Location: 4243 N Lincoln Ave</p>\n	<p>\n		If you have any questions\, please call the 47th Ward office at 773-868-4747.</p>\n	<p>\n		If you are not able to attend but would like the Ward office to address a service\, policy or legislative matter\, they are happy to create presentations for groups of 5 or more. Email schedule@chicago47.org if you would like to setup a presentation.</p>\n</div>\n
LOCATION:47th Ward Alderman's Office 4243 N. Lincoln Avenue Chicago\, IL 60625
UID:e.697.1116
SEQUENCE:3
DTSTAMP:20260420T094441Z
URL:https://www.lincolnsquare.org/events/details/47th-ward-ward-night-10-05-2011-1116
END:VEVENT

END:VCALENDAR
