BEGIN:VCALENDAR
VERSION:2.0
PRODID:-//ChamberMaster//Event Calendar 2.0//EN
METHOD:PUBLISH
X-PUBLISHED-TTL:P3D
REFRESH-INTERVAL:P3D
CALSCALE:GREGORIAN
BEGIN:VEVENT
DTSTART:20111130T233000Z
DTEND:20111201T020000Z
X-MICROSOFT-CDO-ALLDAYEVENT:FALSE
SUMMARY:47th Ward - "Ward Night"
DESCRIPTION:Alderman Pawar will still be holding his weekly Ward Night tonight\, but the time will change for this week.  He will begin seeing folks at 6:45pm and go until 9pm.  If you have an issue you would like to discuss with him\, please come\, sign-in and see him just like any other Ward Night.  We apologize for any inconvenience this time change may cause. \n\n		\n\n		Many of you have stated that 'Ward Night' should be extended. Going forward\, 'Ward Night' will be extended one hour later.\n\n		 \n	\n		Ward Night: Wednesday's\n\n		Time: 5:30pm   8:00pm\n\n		Location: 4243 N Lincoln Ave\n\n		 \n	\n		If you have any questions\, please call the 47th Ward office at 773-868-4747.\n\n		 \n	\n		If you are not able to attend but would like the office to address a service\, policy or legislative matter\, they are happy to create presentations for groups of 5 or more. Email schedule@chicago47.org if you would like to setup a presentation.
X-ALT-DESC;FMTTYPE=text/html:<div class="post-content page-content">\n	<p>\n		<span style="color: #b22222"><span style="font-size: 14pt"><span style="font-family: cambria\, serif">Alderman Pawar will still be holding his weekly Ward Night tonight\, but the time will change for this week.&nbsp\; He will begin seeing folks at 6:45pm and go until 9pm.&nbsp\; If you have an issue you would like to discuss with him\, please come\, sign-in and see him just like any other Ward Night.&nbsp\; We apologize for any inconvenience this time change may cause.&nbsp\;</span></span></span><br />\n		<br />\n		Many of you have stated that &lsquo\;Ward Night&rsquo\; should be extended. Going forward\, &lsquo\;Ward Night&rsquo\; will be extended one hour later.<br />\n		&nbsp\;</p>\n	<p>\n		Ward Night: Wednesday&rsquo\;s<br />\n		Time: 5:30pm &ndash\; 8:00pm<br />\n		Location: 4243 N Lincoln Ave<br />\n		&nbsp\;</p>\n	<p>\n		If you have any questions\, please call the 47th Ward office at 773-868-4747.<br />\n		&nbsp\;</p>\n	<p>\n		If you are not able to attend but would like the office to address a service\, policy or legislative matter\, they are happy to create presentations for groups of 5 or more. Email schedule@chicago47.org if you would like to setup a presentation.<span _fck_bookmark="1" style="display: none">&nbsp\;</span></p>\n</div>\n
LOCATION:47th Ward Alderman's Office 4243 N. Lincoln Avenue Chicago\, IL 60625
UID:e.697.1124
SEQUENCE:3
DTSTAMP:20260420T082129Z
URL:https://www.lincolnsquare.org/events/details/47th-ward-ward-night-11-30-2011-1124
END:VEVENT

END:VCALENDAR
