BEGIN:VCALENDAR
VERSION:2.0
PRODID:-//ChamberMaster//Event Calendar 2.0//EN
METHOD:PUBLISH
X-PUBLISHED-TTL:P3D
REFRESH-INTERVAL:P3D
CALSCALE:GREGORIAN
BEGIN:VEVENT
DTSTART:20110422T000000Z
DTEND:20110422T020000Z
X-MICROSOFT-CDO-ALLDAYEVENT:FALSE
SUMMARY:47th Ward Young Democrats Social Event
DESCRIPTION:Sponsored by State Rep. Ann Williams\n\n\n\nOpen to the public\n\n\n\nRefreshments provided.
X-ALT-DESC;FMTTYPE=text/html:Sponsored by State Rep. Ann Williams<br />\n<br />\nOpen to the public<br />\n<br />\nRefreshments provided. 
LOCATION:Save More Lounge 4060 N Lincoln Ave
UID:e.697.849
SEQUENCE:3
DTSTAMP:20260420T193816Z
URL:https://www.lincolnsquare.org/events/details/47th-ward-young-democrats-social-event-849
END:VEVENT

END:VCALENDAR
