BEGIN:VCALENDAR
VERSION:2.0
PRODID:-//ChamberMaster//Event Calendar 2.0//EN
METHOD:PUBLISH
X-PUBLISHED-TTL:P3D
REFRESH-INTERVAL:P3D
CALSCALE:GREGORIAN
BEGIN:VEVENT
DTSTART:20110713T000000Z
DTEND:20110713T010000Z
X-MICROSOFT-CDO-ALLDAYEVENT:FALSE
SUMMARY:5 Easy Steps to Minimize Your Toxic Exposure
DESCRIPTION:5 Easy Steps to Minimize Your Toxic Exposure\n\n\n\nJoin us Tuesday\; July 12th at 7PM \n\n\n\nRavenswood Chiropractic & Wellness Center presents Tracie Hinton-Chavez\, a licensed Chicago Acupuncturist and Traditional Chinese Medicine Expert who will share with you the latest advances in detoxification strategies and how you can use Traditional Chinese Medicine to correct imbalances caused by toxins that can manifest as illness.\n\n\n\nSeating is limited. Please pre-register by visiting the events section of our website www.RennWellness.com or by calling Nadia at (773) 878-7330.
X-ALT-DESC;FMTTYPE=text/html:<strong>5 Easy Steps to Minimize Your Toxic Exposure<br />\n<br />\nJoin us Tuesday\; July 12th at 7PM </strong><br />\n<br />\nRavenswood Chiropractic &amp\; Wellness Center presents Tracie Hinton-Chavez\, a licensed Chicago Acupuncturist and Traditional Chinese Medicine Expert who will share with you the latest advances in detoxification strategies and how you can use Traditional Chinese Medicine to correct imbalances caused by toxins that can manifest as illness.<br />\n<br />\nSeating is limited. Please pre-register&nbsp\;by visiting the events section of our website <a href="http://www.RennWellness.com">www.RennWellness.com</a>&nbsp\;or by calling&nbsp\;Nadia at (773) 878-7330.<br />\n<br />\n
LOCATION:Ravenswood Chiropractic & Wellness Center 5251 North Ravenswood\, Suite 105 Chicago\, IL 60640
UID:e.697.1044
SEQUENCE:3
DTSTAMP:20260420T141444Z
URL:https://www.lincolnsquare.org/events/details/5-easy-steps-to-minimize-your-toxic-exposure-1044
END:VEVENT

END:VCALENDAR
