BEGIN:VCALENDAR
VERSION:2.0
PRODID:-//ChamberMaster//Event Calendar 2.0//EN
METHOD:PUBLISH
X-PUBLISHED-TTL:P3D
REFRESH-INTERVAL:P3D
CALSCALE:GREGORIAN
BEGIN:VEVENT
DTSTART:20120615T001500Z
DTEND:20120615T011500Z
X-MICROSOFT-CDO-ALLDAYEVENT:FALSE
SUMMARY:8 Weeks to Wellness Weight Loss Seminar\, Ravenswood Health Center
DESCRIPTION:Looking for a weight loss program that is effective\, long lasting\, and life changing? Please join us at Ravenswood Health Center for an informative evening on the groud breaking 8 Weeks to Wellness weight loss program.  Give us 8 Weeks and we'll give you the rest of your life!  8WW is a comprehensive program which includes diet/nutrition\, personal training\, chiropractic adjustments\, massage\, and meditation.  Most major insurance accepted.  Average weight loss after 8 weeks is 15 lbs.  Average inches lost off of waist is 4 inches and 2.3 inches off of the hips in just 8 weeks!
X-ALT-DESC;FMTTYPE=text/html:Looking for a weight loss program that is effective\, long lasting\, and life changing? Please join us at Ravenswood Health Center for an informative evening on the groud breaking <span style="background-color:#40e0d0\;">8 Weeks to Wellness weight loss</span> program.&nbsp\; Give us 8 Weeks and we&#39\;ll give you the rest of your life!&nbsp\; 8WW is a comprehensive program which includes diet/nutrition\, personal training\, chiropractic adjustments\, massage\, and meditation.&nbsp\; Most major insurance accepted.&nbsp\; <span style="background-color:#ffff00\;">Average weight loss after 8 weeks is 15 lbs.&nbsp\; Average inches lost off of waist is 4 inches and 2.3 inches off of the hips in just 8 weeks!</span>
LOCATION:Ravenswood Health Center 4256 North Ravenswood
UID:e.697.2798
SEQUENCE:3
DTSTAMP:20260419T222419Z
URL:https://www.lincolnsquare.org/events/details/8-weeks-to-wellness-weight-loss-seminar-ravenswood-health-center-2798
END:VEVENT

END:VCALENDAR
