BEGIN:VCALENDAR
VERSION:2.0
PRODID:-//ChamberMaster//Event Calendar 2.0//EN
METHOD:PUBLISH
X-PUBLISHED-TTL:P3D
REFRESH-INTERVAL:P3D
CALSCALE:GREGORIAN
BEGIN:VEVENT
DTSTART:20120204T020000Z
DTEND:20120226T020000Z
X-MICROSOFT-CDO-ALLDAYEVENT:FALSE
SUMMARY:A Lesson Before Dying
DESCRIPTION:Lincoln Square Theatre's Jeff-Recommended production of "A Lesson Before Dying" returns during the month of February in conjunction with Black History Month. The play\, set in 1940s Louisiana\, concerns the friendship that develops between a young man unjustly accused of murder and the teacher enlisted to help him approach his execution with dignity.
X-ALT-DESC;FMTTYPE=text/html:Lincoln Square Theatre&#39\;s Jeff-Recommended production of &quot\;A Lesson Before Dying&quot\; returns during the month of February in conjunction with Black History Month. The play\, set in 1940s Louisiana\, concerns the friendship that develops between a young man unjustly accused of murder and the teacher enlisted to help him approach his execution with dignity.
LOCATION:Lincoln Square Theatre (inside Berry UMC) 4754 N. Leavitt\, Chicago
UID:e.697.2455
SEQUENCE:3
DTSTAMP:20260420T045524Z
URL:https://www.lincolnsquare.org/events/details/a-lesson-before-dying-2455
END:VEVENT

END:VCALENDAR
