BEGIN:VCALENDAR
VERSION:2.0
PRODID:-//ChamberMaster//Event Calendar 2.0//EN
METHOD:PUBLISH
X-PUBLISHED-TTL:P3D
REFRESH-INTERVAL:P3D
CALSCALE:GREGORIAN
BEGIN:VEVENT
DTSTART;VALUE=DATE:20110219
DTEND;VALUE=DATE:20110220
TRANSP:TRANSPARENT
X-MICROSOFT-CDO-ALLDAYEVENT:TRUE
SUMMARY:A Night with Ronnie Rice
DESCRIPTION:Save the Date for "A Night with Ronnie Rice"
X-ALT-DESC;FMTTYPE=text/html:Save the Date for "A Night with Ronnie Rice"
LOCATION:Gateway to Learning
UID:e.697.684
SEQUENCE:3
DTSTAMP:20260420T221303Z
URL:https://www.lincolnsquare.org/events/details/a-night-with-ronnie-rice-684
END:VEVENT

END:VCALENDAR
