BEGIN:VCALENDAR
VERSION:2.0
PRODID:-//ChamberMaster//Event Calendar 2.0//EN
METHOD:PUBLISH
X-PUBLISHED-TTL:P3D
REFRESH-INTERVAL:P3D
CALSCALE:GREGORIAN
BEGIN:VEVENT
DTSTART:20110924T193000Z
DTEND:20110924T203000Z
X-MICROSOFT-CDO-ALLDAYEVENT:FALSE
SUMMARY:ACUPUNCTURE FOR ALLERGIES
DESCRIPTION:According to the American Academy of Allergy\, Asthma\, and Immunology\, "a nationwide survey found that more than half (54.6%) of all U.S. Citizens test positive to one or more allergies." If you are an allergy sufferer you may have tried an over the counter remedy that promised symptomatic relief\, but have you ever had your Wei Qi checked?\n\n\n\nJoin us Saturday\, September 24th\, at 2:30 PM\, to learn how Tracie Hinton-Chavez\, Licensed Chicago Acupuncturist\, uses Traditional Chinese Medicine to address the cause of allergies and balance the immune system.\n\n\n\nThis informative presentation is free and all are welcome. Pre-registration is required at the events section of our website: www.RennWellness.com and is hosted by Ravenswood Chiropractic & Wellness Center at 5215 North Ravenswood\, Suite 105\, Chicago\, IL 60640. For more information please call us at 773.878.7330.
X-ALT-DESC;FMTTYPE=text/html:According to the American Academy of Allergy\, Asthma\, and Immunology\, &ldquo\;a nationwide survey found that more than half (54.6%) of all U.S. Citizens test positive to one or more allergies.&rdquo\; If you are an allergy sufferer you may have tried an over the counter remedy that promised symptomatic relief\, but have you ever had your Wei Qi checked?<br />\n<br />\nJoin us Saturday\, September 24th\, at 2:30 PM\, to learn how Tracie Hinton-Chavez\, Licensed Chicago Acupuncturist\, uses Traditional Chinese Medicine to address the cause of allergies and balance the immune system.<br />\n<br />\nThis informative presentation is free and all are welcome. Pre-registration is required at the events section of our website: www.RennWellness.com and is hosted by Ravenswood Chiropractic &amp\; Wellness Center at 5215 North Ravenswood\, Suite 105\, Chicago\, IL 60640. For more information please call us at 773.878.7330.<br />\n
LOCATION:Ravenswood Chiropractic & Wellness Center
UID:e.697.1897
SEQUENCE:3
DTSTAMP:20260420T111550Z
URL:https://www.lincolnsquare.org/events/details/acupuncture-for-allergies-1897
END:VEVENT

END:VCALENDAR
