BEGIN:VCALENDAR
VERSION:2.0
PRODID:-//ChamberMaster//Event Calendar 2.0//EN
METHOD:PUBLISH
X-PUBLISHED-TTL:P3D
REFRESH-INTERVAL:P3D
CALSCALE:GREGORIAN
BEGIN:VEVENT
DTSTART:20120818T193000Z
DTEND:20120818T203000Z
X-MICROSOFT-CDO-ALLDAYEVENT:FALSE
SUMMARY:Acupuncture for Digestive Problems
DESCRIPTION:Acupuncture for Digestive Problems\n\nPresented by: Tracie Hinton-Chavez\, LAc.\n\n\n\n\n\nRavenswood Chiropractic & Wellness Center presents Tracie Hinton-Chavez\, a Licensed Chicago Acupuncturist and Traditional Chinese Medicine expert who will share with you the latest advances in Traditional Chinese Medicine to correct body disturbances that manifest as illness. Join us for this free presentation!\n\n\n\nDuring the first half of the workshop you will learn about the fascinating way Traditional Chinese Medicine has evolved to its present form in the United States and how the power of Qi is harnessed and balanced to achieve optimal health benefits. This will include an overview of the Traditional Chinese Medicine components of Acupuncture\, Acupressure\, Cupping\, Moxibustion\, Gua Sha\, Chinese Herbs\, and more!\n\n\n\nThe second half of the workshop applies Traditional Chinese Medicine principles to choosing food combinations and healing digestive systems by using the "Three R's" Repairing\, Rebuilding and Restoring Digestive balance. Join us to learn how you can use these techniques to stabilize your systems\n\n\n\nIf you haven't already done so\, please make your reservation now. Seating is limited.\n\n\n\nRegister on our website in the Events Section: www.RennWellness.com or Call Olivia at (773) 878-7330
X-ALT-DESC;FMTTYPE=text/html:<strong><span style="font-size:16px\;">Acupuncture for Digestive Problems</span><br />\nPresented by: Tracie Hinton-Chavez\, LAc.</strong><br />\n<br />\n<br />\nRavenswood Chiropractic &amp\; Wellness Center presents Tracie Hinton-Chavez\, a Licensed Chicago Acupuncturist and Traditional Chinese Medicine expert who will share with you the latest advances in Traditional Chinese Medicine to correct body disturbances that manifest as illness. Join us for this free presentation!<br />\n<br />\nDuring the first half of the workshop you will learn about the fascinating way Traditional Chinese Medicine has evolved to its present form in the United States and how the power of Qi is harnessed and balanced to achieve optimal health benefits. This will include an overview of the Traditional Chinese Medicine components of Acupuncture\, Acupressure\, Cupping\, Moxibustion\, Gua Sha\, Chinese Herbs\, and more!<br />\n<br />\nThe second half of the workshop applies Traditional Chinese Medicine principles to choosing food combinations and healing digestive systems by using the &ldquo\;Three R&rsquo\;s&rdquo\; Repairing\, Rebuilding and Restoring Digestive balance. Join us to learn how you can use these techniques to stabilize your systems<br />\n<br />\nIf you haven&rsquo\;t already done so\, please make your reservation now. Seating is limited.<br />\n<br />\nRegister on our website in the Events Section: www.RennWellness.com or Call Olivia at (773) 878-7330<br />\n
LOCATION:Ravenswood Chiropractic & Wellness Center 5215 N Ravenswood\, Suite 105 Chicago\, IL 60640
UID:e.697.3597
SEQUENCE:3
DTSTAMP:20260420T170419Z
URL:https://www.lincolnsquare.org/events/details/acupuncture-for-digestive-problems-3597
END:VEVENT

END:VCALENDAR
