BEGIN:VCALENDAR
VERSION:2.0
PRODID:-//ChamberMaster//Event Calendar 2.0//EN
METHOD:PUBLISH
X-PUBLISHED-TTL:P3D
REFRESH-INTERVAL:P3D
CALSCALE:GREGORIAN
BEGIN:VEVENT
DTSTART:20110112T003000Z
DTEND:20110112T020000Z
X-MICROSOFT-CDO-ALLDAYEVENT:FALSE
SUMMARY:Acupuncture for Weight Loss : Acupuncture for Stop Smoking
DESCRIPTION:Achieve Your New Yearsâ?? Resolutions at a Special Workshop on Acupuncture for Weight Loss and Acupuncture to Stop Smoking.\n\n\n\npresented by Tracie Hinton-Chavez LAc from Ravenswood Chiropractic & Wellness Center.\n\n\n\nStart the year off with a gourmet raw food dinner starting at 6:30 PM\, then settle in for an evening with Tracie as she discusses the latest breakthroughs in Acupuncture for Weight Loss and Acupuncture for Smoking Cessation including strategies to reduce cravings\, anxiety\, withdrawal symptoms\, and increase energy and improve mood.\n\n\n\nWHEN: January 11th 2011 â?? Dinner at 6:30 PM Workshop at 7:00 PM\n\nWHERE: Cousinâ??s Incredible Vitality - 3038 W. Irving Park Rd. Chicago IL. 60618\n\n\n\nCOST: $10 â?? Includes a Gourmet Raw Food Dinner and Seat at the Workshop\n\n\n\nTO REGISTER: Call Cousinâ??s Incredible Vitality: (773) 478-6868\n\n\n\nADDITIONAL INFORMATION ABOUT THE WORKSHOP: Nadia Hare (773) 878-7330
X-ALT-DESC;FMTTYPE=text/html:Achieve Your New Yearsâ?? Resolutions at a Special Workshop on Acupuncture for Weight Loss and Acupuncture to Stop Smoking.\n<br>\n<br>presented by Tracie Hinton-Chavez LAc from Ravenswood Chiropractic &amp\; Wellness Center.\n<br>\n<br>Start the year off with a gourmet raw food dinner starting at 6:30 PM\, then settle in for an evening with Tracie as she discusses the latest breakthroughs in Acupuncture for Weight Loss and Acupuncture for Smoking Cessation including strategies to reduce cravings\, anxiety\, withdrawal symptoms\, and increase energy and improve mood.\n<br>\n<br>WHEN: January 11th 2011 â?? Dinner at 6:30 PM Workshop at 7:00 PM\n<br>WHERE: Cousinâ??s Incredible Vitality - 3038 W. Irving Park Rd. Chicago IL. 60618\n<br>\n<br>COST: $10 â?? Includes a Gourmet Raw Food Dinner and Seat at the Workshop\n<br>\n<br>TO REGISTER: Call Cousinâ??s Incredible Vitality: (773) 478-6868\n<br>\n<br>ADDITIONAL INFORMATION ABOUT THE WORKSHOP: Nadia Hare (773) 878-7330\n<br>
LOCATION:Cousin's Incredible Vitality 3038 West Irving Park Road Chicago\, IL 60618
UID:e.697.692
SEQUENCE:3
DTSTAMP:20260421T000308Z
URL:https://www.lincolnsquare.org/events/details/acupuncture-for-weight-loss-acupuncture-for-stop-smoking-692
END:VEVENT

END:VCALENDAR
