BEGIN:VCALENDAR
VERSION:2.0
PRODID:-//ChamberMaster//Event Calendar 2.0//EN
METHOD:PUBLISH
X-PUBLISHED-TTL:P3D
REFRESH-INTERVAL:P3D
CALSCALE:GREGORIAN
BEGIN:VEVENT
DTSTART:20100608T230000Z
DTEND:20100609T010000Z
X-MICROSOFT-CDO-ALLDAYEVENT:FALSE
SUMMARY:Acupuncture Open House
DESCRIPTION:Ravenswood Chiropractic & Wellness Center warmly invites you to attend our\n\n\n\nACUPUNCTURE OPEN HOUSE\n\n\n\nWith Tracie Hinton-Chavez\, L.Ac.\, M.S.O.M.\, L.P.N.\, L.M.T. \n\n\n\nAre you curious about acupuncture?\n\nDo you want to know how acupuncture works?\n\nAre you interested in acupuncture for the treatment of a condition?\n\nDo you want to learn about Traditional Chinese Medicine?\n\nPerhaps you want to sample an Auricular Acupuncture Session or watch one?\n\nIf you answered yes to any of these questions\, please join us for a fun evening of answers and discovery. \n\n\n\nDate: June 8th\, 2010\n\n\n\nTime: 6:00 P.M. to 8:00 P.M.\n\n\n\nPlace: Ravenswood Chiropractic & Wellness Center \n\n\n\n            5215 N. Ravenswood\, Suite 105\n\n\n\n            Chicago\, IL  60640\n\n\n\n \n\n\n\n PLEASE R.S.V.P. \n\nIf you haven?t already done so\, please make your reservation now.  Space is limited.\n\n\n\nRegister by visiting the events section of our website www.RennWellness.com or by calling Nadia Hare at (773) 878-7330.
X-ALT-DESC;FMTTYPE=text/html:Ravenswood Chiropractic &amp\; Wellness Center warmly invites you to attend our\n<br>\n<br>ACUPUNCTURE OPEN HOUSE\n<br>\n<br>With Tracie Hinton-Chavez\, L.Ac.\, M.S.O.M.\, L.P.N.\, L.M.T. \n<br>\n<br>Are you curious about acupuncture?\n<br>Do you want to know how acupuncture works?\n<br>Are you interested in acupuncture for the treatment of a condition?\n<br>Do you want to learn about Traditional Chinese Medicine?\n<br>Perhaps you want to sample an Auricular Acupuncture Session or watch one?\n<br>If you answered yes to any of these questions\, please join us for a fun evening of answers and discovery. \n<br>\n<br>Date: June 8th\, 2010\n<br>\n<br>Time: 6:00 P.M. to 8:00 P.M.\n<br>\n<br>Place: Ravenswood Chiropractic &amp\; Wellness Center \n<br>\n<br>            5215 N. Ravenswood\, Suite 105\n<br>\n<br>            Chicago\, IL  60640\n<br>\n<br> \n<br>\n<br> PLEASE R.S.V.P. \n<br>If you haven?t already done so\, please make your reservation now.  Space is limited.\n<br>\n<br>Register by visiting the events section of our website www.RennWellness.com or by calling Nadia Hare at (773) 878-7330.\n<br>
LOCATION:Ravenswood Chiropractic & Wellness Center 5215 North Ravenswood\, Suite 105 Chicago\, IL 60640
UID:e.697.543
SEQUENCE:3
DTSTAMP:20260421T104503Z
URL:https://www.lincolnsquare.org/events/details/acupuncture-open-house-543
END:VEVENT

END:VCALENDAR
