BEGIN:VCALENDAR
VERSION:2.0
PRODID:-//ChamberMaster//Event Calendar 2.0//EN
METHOD:PUBLISH
X-PUBLISHED-TTL:P3D
REFRESH-INTERVAL:P3D
CALSCALE:GREGORIAN
BEGIN:VEVENT
DTSTART:20111105T010000Z
DTEND:20111105T040000Z
X-MICROSOFT-CDO-ALLDAYEVENT:FALSE
SUMMARY:Amen Sardar Art Opening Reception at Dolce Casa Cafe
DESCRIPTION:"WHISPERING PETALS"\n\n		I dip my feet in ecstasy.\n\n		The soft petals brush gently against my toes as I play with them once more\;\n\n		They fiddle and they tease\, and I find myself at ease\;\n\n		It's an uncanny feeling\, as complex patterns frame the mind\;\n\n		Does it remind me of the velvet or the silk? I'm unable to decide\;\n\n		Silence prevails\, but how long shall it last? I now hear sounds\;\n\n		The petals are whispering\, they tell me their story\;\n\n		The excitement\, the anxiety\; The flawlessness in the air\;\n\n		Will cast its shadow yet again\;\n\n		But wait....\n\n		\n\n		You dont want to miss the opening reception for our November artist Amen Sardar this Friday.\n\n		\n\n		8:00pm\n\n		BYOB
X-ALT-DESC;FMTTYPE=text/html:&nbsp\;\n<td class="data">\n	<div class="description summary">\n		&ldquo\;WHISPERING PETALS&rdquo\;<br />\n		I dip my feet in ecstasy.<br />\n		The soft petals brush gently against my toes as I play with them once more\;<br />\n		They fiddle and they tease\, and I find myself at ease\;<br />\n		It&rsquo\;s an uncanny feeling\, as complex patterns frame the mind\;<br />\n		Does it remind me of the velvet or the silk? I&#39\;m unable to decide\;<br />\n		Silence prevails\, but how long shall it last? I now hear sounds\;<br />\n		The petals are whispering\, they tell me their story\;<br />\n		The excitement\, the anxiety\; The flawlessness in the air\;<br />\n		Will cast its shadow yet again\;<br />\n		But wait....<br />\n		<br />\n		You dont want to miss the opening reception for our November artist Amen Sardar this Friday.<br />\n		<br />\n		8:00pm<br />\n		BYOB</div>\n</td>\n
LOCATION:Dolce Casa Cafe 4947 N. Damen Avenue
UID:e.697.2197
SEQUENCE:3
DTSTAMP:20260420T082500Z
URL:https://www.lincolnsquare.org/events/details/amen-sardar-art-opening-reception-at-dolce-casa-cafe-2197
END:VEVENT

END:VCALENDAR
