BEGIN:VCALENDAR
VERSION:2.0
PRODID:-//ChamberMaster//Event Calendar 2.0//EN
METHOD:PUBLISH
X-PUBLISHED-TTL:P3D
REFRESH-INTERVAL:P3D
CALSCALE:GREGORIAN
BEGIN:VEVENT
DTSTART:20110924T160000Z
DTEND:20110924T220000Z
X-MICROSOFT-CDO-ALLDAYEVENT:FALSE
SUMMARY:APPLE ART EXHIBITION at Granville Picture Framing at LSQ
DESCRIPTION:APPLE ART EXHIBITION: IT'S ALL ABOUT APPLES!\n\n\n	Every Kind\, Type\, and Story.\n\n	Every Laugh\, Legend\, and Myth.\n\n	Every Cooked\, Raw\, and Eaten.\n\n	Come see what local artists\n\n	Created in the name of apples.\n\n	Quarts (8x10)...Pecks (12x16)...\n\n	1/2 Bushels (16x20)...Bushels (20x24)\n\n	\n\n	In this Harvest of Creativity...\n\n	Who will be picked as the Golden Apple - Best of Show\n\n	and the 2 Select Apples - Core of Honor?\n\n	\n\n	At Granville Picture Framing at LSQ\,\n\n	4757 N Lincoln Avenue.\n\n	Private Artists Reception 9/24: 9am to 11am.\n\n	Public Viewing Saturday 9/24: 11am to 5pm. \n\n	Additional viewing Sunday 9/25: 12nto 4pm.\n\n	\n\n	In cooperation with the Lincoln Sqaure Chamber of Commerce and Apple Fest
X-ALT-DESC;FMTTYPE=text/html:<h1>\n	<span style="font-size:22px\;"><span style="color:#ff0000\;"><strong>APPLE ART EXHIBITION:&nbsp\;</strong></span><span class="Apple-style-span">IT&#39\;S ALL ABOUT APPLES!</span></span></h1>\n<hr />\n<h1>\n	<span class="Apple-style-span" style="font-size: 18px\; "><strong>Every Kind\, Type\, and Story.<br />\n	Every Laugh\, Legend\, and Myth.<br />\n	Every Cooked\, Raw\, and Eaten.<br />\n	Come see what local artists<br />\n	Created in the name of apples.<br />\n	Quarts (8x10)...Pecks (12x16)...<br />\n	1/2 Bushels (16x20)...Bushels (20x24)<br />\n	<br />\n	In this Harvest of Creativity...<br />\n	Who will be picked as the Golden Apple - Best of Show<br />\n	and the 2 Select Apples - Core of Honor?<br />\n	<br />\n	<span style="font-size:20px\;">At Granville Picture Framing at LSQ\,</span><br />\n	4757 N Lincoln Avenue.<br />\n	Private Artists Reception 9/24: 9am to 11am.<br />\n	Public Viewing Saturday 9/24: 11am to 5pm.&nbsp\;<br />\n	Additional viewing Sunday 9/25: 12nto 4pm.<br />\n	<br />\n	<span style="font-size:14px\;">In cooperation with the Lincoln Sqaure Chamber of Commerce and Apple Fest&nbsp\;</span></strong></span></h1>\n
LOCATION:4757 N Lincoln Avenue
UID:e.697.1905
SEQUENCE:3
DTSTAMP:20260420T113005Z
URL:https://www.lincolnsquare.org/events/details/apple-art-exhibition-at-granville-picture-framing-at-lsq-1905
END:VEVENT

END:VCALENDAR
