BEGIN:VCALENDAR
VERSION:2.0
PRODID:-//ChamberMaster//Event Calendar 2.0//EN
METHOD:PUBLISH
X-PUBLISHED-TTL:P3D
REFRESH-INTERVAL:P3D
CALSCALE:GREGORIAN
BEGIN:VEVENT
DTSTART:20110924T130000Z
DTEND:20110924T210000Z
X-MICROSOFT-CDO-ALLDAYEVENT:FALSE
SUMMARY:Apple Fest
DESCRIPTION:Welcome in Fall with Lincoln Square Chamber of Commerce's 24th Annual Apple Fest\, sponsored by the Chicago Vein Institute!  The festivities will take place on Saturday\, September 24\, 2011 from 8am - 4pm.  Apple Fest is a long standing tradition in Lincoln Square bringing the community together to celebrate the beginning of fall.\n\n	 \n\n	Dozens of vendors participate in the event yearly\, selling everything from candy apples to scarves and hats. Stop by and pick up a fresh baked apple pie\, a bushel of apples\, hot apple cider\, or even an apple pizza.  Bring the kids along and hang out in the Kid Zone where children's activities will occur at the top of each hour.  Or relax in Giddings Plaza and listen to the wonderful sounds of local musicians.  There's sure to be something for everyone at Apple Fest!
X-ALT-DESC;FMTTYPE=text/html:<p style="text-align: justify">\n	Welcome in Fall with Lincoln Square Chamber of Commerce&#39\;s 24th Annual Apple Fest\, sponsored by the Chicago Vein Institute!&nbsp\; The festivities will take place on Saturday\, September 24\, 2011 from 8am - 4pm.&nbsp\; Apple Fest is a long standing tradition in Lincoln Square bringing the community together to celebrate the beginning of fall.</p>\n<p style="text-align: justify">\n	&nbsp\;</p>\n<p style="text-align: justify">\n	Dozens of vendors participate in the event yearly\, selling everything from candy apples to scarves and hats. Stop by and pick up a fresh baked apple pie\, a bushel of apples\, hot apple cider\, or even an apple pizza.&nbsp\; Bring the kids along and hang out in the Kid Zone where children&#39\;s activities will occur at the top of each hour.&nbsp\; Or relax in Giddings Plaza and listen to the wonderful sounds of local musicians.&nbsp\; There&#39\;s sure to be something for everyone at Apple Fest!</p>\n<p>\n	<br />\n	&nbsp\;</p>\n
LOCATION:4700 Block of N. Lincoln Avenue (between W. Leland and W. Lawrence)
UID:e.697.701
SEQUENCE:3
DTSTAMP:20260420T110051Z
URL:https://www.lincolnsquare.org/events/details/apple-fest-701
END:VEVENT

END:VCALENDAR
