BEGIN:VCALENDAR
VERSION:2.0
PRODID:-//ChamberMaster//Event Calendar 2.0//EN
METHOD:PUBLISH
X-PUBLISHED-TTL:P3D
REFRESH-INTERVAL:P3D
CALSCALE:GREGORIAN
BEGIN:VEVENT
DTSTART;VALUE=DATE:20110924
DTEND;VALUE=DATE:20110925
TRANSP:TRANSPARENT
X-MICROSOFT-CDO-ALLDAYEVENT:TRUE
SUMMARY:APPLE FEST at the Huettenbar
DESCRIPTION:Enjoy APPLE FEST at the Huettenbar!  We will be serving HOT APPLE CIDER with the shot of your choice\, including\;\n\n\n\n- Dr. McGuillicudy's APPLE PIE\n\n\n\n- OLD SMOKEY Tennesse Apple Moonshine\n\n\n\n- Vodka Apple Pucker\n\n\n\n- Bacardi OAKHEART (only for the brave!)\, a delicious spiced RUM.  YUM! YUM!\n\n\n\n- And last but not least the old German favorite APFEL SCHNAPPS!  Ja! Gut!
X-ALT-DESC;FMTTYPE=text/html:Enjoy APPLE FEST at the Huettenbar! &nbsp\;We will be serving HOT APPLE CIDER with the shot of your choice\, including\;<br />\n<br />\n- Dr. McGuillicudy&#39\;s APPLE PIE<br />\n<br />\n- OLD SMOKEY Tennesse Apple Moonshine<br />\n<br />\n- Vodka Apple Pucker<br />\n<br />\n- Bacardi OAKHEART (only for the brave!)\, a delicious spiced RUM. &nbsp\;YUM! YUM!<br />\n<br />\n- And last but not least the old German favorite APFEL SCHNAPPS! &nbsp\;Ja! Gut!<br />\n<br />
LOCATION:4721 N Lincoln Ave.
UID:e.697.1906
SEQUENCE:3
DTSTAMP:20260420T124230Z
URL:https://www.lincolnsquare.org/events/details/apple-fest-at-the-huettenbar-1906
END:VEVENT

END:VCALENDAR
