BEGIN:VCALENDAR
VERSION:2.0
PRODID:-//ChamberMaster//Event Calendar 2.0//EN
METHOD:PUBLISH
X-PUBLISHED-TTL:P3D
REFRESH-INTERVAL:P3D
CALSCALE:GREGORIAN
BEGIN:VEVENT
DTSTART:20120406T233000Z
DTEND:20120407T020000Z
X-MICROSOFT-CDO-ALLDAYEVENT:FALSE
SUMMARY:April First Fridays at Lillstreet
DESCRIPTION:Please join Lillstreet as they welcome spring to the upstairs studios with good friends\, fun\, and lots of great art.\n\n\n\nThis month's highlights are: musical guests Mike Baum accompanied by Ellen Baum Pop Up Gallery\, Gallery C.  Featuring two resident artists\, Young Cho and Mitchell. \n\n\n\nCome one and all!!!
X-ALT-DESC;FMTTYPE=text/html:Please join Lillstreet as they welcome spring to the upstairs studios with good friends\, fun\, and lots of great art.<br />\n<br />\nThis month&#39\;s highlights are: musical guests Mike Baum accompanied by Ellen Baum Pop Up Gallery\, Gallery C.&nbsp\; Featuring two resident artists\, Young Cho and Mitchell.&nbsp\;<br />\n<br />\nCome one and all!!!
LOCATION:Lillstreet 4401 N Ravenswood Ave.
UID:e.697.2508
SEQUENCE:3
DTSTAMP:20260419T235653Z
URL:https://www.lincolnsquare.org/events/details/april-first-fridays-at-lillstreet-2508
END:VEVENT

END:VCALENDAR
