BEGIN:VCALENDAR
VERSION:2.0
PRODID:-//ChamberMaster//Event Calendar 2.0//EN
METHOD:PUBLISH
X-PUBLISHED-TTL:P3D
REFRESH-INTERVAL:P3D
CALSCALE:GREGORIAN
BEGIN:VEVENT
DTSTART:20100420T233000Z
DTEND:20100421T013000Z
X-MICROSOFT-CDO-ALLDAYEVENT:FALSE
SUMMARY:April Membership Gathering
DESCRIPTION:Annual Green Meeting * What is your business doing to be more environmentally friendy? * What would you like to know about to be more environmentally friendly - a specific area that you are interested in or working on for your business?  For example lighting\, cleaning products\, reduction of using paper\, better carry out containers\, recycling. Come join us for an evening of "green" options!
X-ALT-DESC;FMTTYPE=text/html:<div><div style="text-align: center">Annual Green Meeting</div><div style="text-align: center">&nbsp\;</div><div><div style="text-align: center">* What is your business doing to be more environmentally friendy?</div><div>&nbsp\;</div><div style="text-align: center">* What would you like to know about to be more environmentally friendly - a specific area that you are interested in or working on for your business?&nbsp\; For example lighting\, cleaning products\, reduction of using paper\, better carry out containers\, recycling.</div><div style="text-align: center">&nbsp\;</div><div style="text-align: center">Come join us for an evening of &quot\;green&quot\; options!</div></div></div>
LOCATION:Bad Dog Tavern4535 N. Lincoln Ave
UID:e.697.304
SEQUENCE:3
DTSTAMP:20260421T154054Z
URL:https://www.lincolnsquare.org/events/details/april-membership-gathering-304
END:VEVENT

END:VCALENDAR
