BEGIN:VCALENDAR
VERSION:2.0
PRODID:-//ChamberMaster//Event Calendar 2.0//EN
METHOD:PUBLISH
X-PUBLISHED-TTL:P3D
REFRESH-INTERVAL:P3D
CALSCALE:GREGORIAN
BEGIN:VEVENT
DTSTART:20120512T193000Z
DTEND:20120512T203000Z
X-MICROSOFT-CDO-ALLDAYEVENT:FALSE
SUMMARY:Are Hidden Allergies Making You Sick? Childhood Allergy Development and Beyond
DESCRIPTION:Are Hidden Allergies Making You Sick?\n\n\n\nChildhood Allergy Development and Beyond\n\n\n\nPresented by Dr. Todd C. Renn\, D.C.\, a functional medicine advocate\n\n\n\n\n\n\n\nAre you making significant efforts to lose weight but you are disappointed with the results?\n\n\n\nDo you feel fatigued and run-down but doctors say they can't find anything wrong with you?\n\n\n\nMost people are familiar with peanut and shellfish allergies\, which can come on suddenly after exposure and be life-threatening. These reactions are called Type 1 (IgE mediated ) immediate hypersensitivity reaction. Some people can also have delayed reactions to foods. These are called Type 2\,3\, or 4 (Antibody IgG\, IgM\, IgA\, Immune Complex & cell-mediated) hypersensitivity reactions which occur several hours to days after exposure. The symptoms are usually chronic because you don't relate them to the food you eat due to the delayed reaction so you keep eating the offending food. Symptoms vary by individual and can range from general malaise to headaches or irritable bowel or more. Join us on May 12 at 2:30 pm to learn about the current research on why allergies develop in children\, contributing factors to adult onset allergies and things you can do today to eliminate hidden allergies. This presentation is free and all are welcome. Pre-registration is required at the events section of our website: www.RennWellness.com and is hosted by Ravenswood Chiropractic & Wellness Center at 5215 North Ravenswood\, Suite 105\, Chicago\, IL 60640. For more information please call us at 773.878.7330.
X-ALT-DESC;FMTTYPE=text/html:Are Hidden Allergies Making You Sick?<br />\n<br />\nChildhood Allergy Development and Beyond<br />\n<br />\nPresented by Dr. Todd C. Renn\, D.C.\, a functional medicine advocate<br />\n<br />\n<br />\n<br />\nAre you making significant efforts to lose weight but you are disappointed with the results?<br />\n<br />\nDo you feel fatigued and run-down but doctors say they can&rsquo\;t find anything wrong with you?<br />\n<br />\nMost people are familiar with peanut and shellfish allergies\, which can come on suddenly after exposure and be life-threatening. These reactions are called Type 1 (IgE mediated ) immediate hypersensitivity reaction. Some people can also have delayed reactions to foods. These are called Type 2\,3\, or 4 (Antibody IgG\, IgM\, IgA\, Immune Complex &amp\; cell-mediated) hypersensitivity reactions which occur several hours to days after exposure. The symptoms are usually chronic because you don&rsquo\;t relate them to the food you eat due to the delayed reaction so you keep eating the offending food. Symptoms vary by individual and can range from general malaise to headaches or irritable bowel or more. Join us on May 12 at 2:30 pm to learn about the current research on why allergies develop in children\, contributing factors to adult onset allergies and things you can do today to eliminate hidden allergies. This presentation is free and all are welcome. Pre-registration is required at the events section of our website: www.RennWellness.com and is hosted by Ravenswood Chiropractic &amp\; Wellness Center at 5215 North Ravenswood\, Suite 105\, Chicago\, IL 60640. For more information please call us at 773.878.7330.<br />\n<br />\n
LOCATION:5215 N. Ravenswood Ave. Suite 105\, Chicago\, IL 60640
UID:e.697.2558
SEQUENCE:3
DTSTAMP:20260419T222021Z
URL:https://www.lincolnsquare.org/events/details/are-hidden-allergies-making-you-sick-childhood-allergy-development-and-beyond-2558
END:VEVENT

END:VCALENDAR
