BEGIN:VCALENDAR
VERSION:2.0
PRODID:-//ChamberMaster//Event Calendar 2.0//EN
METHOD:PUBLISH
X-PUBLISHED-TTL:P3D
REFRESH-INTERVAL:P3D
CALSCALE:GREGORIAN
BEGIN:VEVENT
DTSTART:20111008T000000Z
DTEND:20111008T030000Z
X-MICROSOFT-CDO-ALLDAYEVENT:FALSE
SUMMARY:Art\, Wine\, and Music at Dolce Casa Cafe
DESCRIPTION:The new art is up and looks great in the caf . Drop by this Friday from 7:00pm to whenever the party stops for some great wine\, fantastic music and your chance to meet our October artist Kyle Van Heck.
X-ALT-DESC;FMTTYPE=text/html:The new art is up and looks great in the caf&eacute\;. Drop by this Friday from 7:00pm to whenever the party stops for some great wine\, fantastic music and your chance to meet our October artist Kyle Van Heck.
LOCATION:Dolce Casa Cafe 4947 N. Damen Avenue
UID:e.697.2135
SEQUENCE:3
DTSTAMP:20260420T094734Z
URL:https://www.lincolnsquare.org/events/details/art-wine-and-music-at-dolce-casa-cafe-2135
END:VEVENT

END:VCALENDAR
