BEGIN:VCALENDAR
VERSION:2.0
PRODID:-//ChamberMaster//Event Calendar 2.0//EN
METHOD:PUBLISH
X-PUBLISHED-TTL:P3D
REFRESH-INTERVAL:P3D
CALSCALE:GREGORIAN
BEGIN:VEVENT
DTSTART:20111203T160000Z
DTEND:20111203T210000Z
X-MICROSOFT-CDO-ALLDAYEVENT:FALSE
SUMMARY:Artisan Fair at Waters Elementary
DESCRIPTION:
X-ALT-DESC;FMTTYPE=text/html:
LOCATION:Waters Elementary Corner of Willson and Campbell
UID:e.697.2213
SEQUENCE:3
DTSTAMP:20260420T060823Z
URL:https://www.lincolnsquare.org/events/details/artisan-fair-at-waters-elementary-2213
END:VEVENT

END:VCALENDAR
