BEGIN:VCALENDAR
VERSION:2.0
PRODID:-//ChamberMaster//Event Calendar 2.0//EN
METHOD:PUBLISH
X-PUBLISHED-TTL:P3D
REFRESH-INTERVAL:P3D
CALSCALE:GREGORIAN
BEGIN:VEVENT
DTSTART:20110820T193000Z
DTEND:20110820T203000Z
X-MICROSOFT-CDO-ALLDAYEVENT:FALSE
SUMMARY:Autism Spectrum Disorders & ADHD
DESCRIPTION:Join us on Saturday\, August 20th at 2:30 PM\, to learn\n\nmore about Autism Spectrum Disorders and\n\nADD/ADHD including possible causes and some of\n\nthe available treatment options. This is a free event\n\nhowever seating is limited so please RSVP today.
X-ALT-DESC;FMTTYPE=text/html:Join us on Saturday\, August 20th at 2:30 PM\, to learn<br />\nmore about Autism Spectrum Disorders and<br />\nADD/ADHD including possible causes and some of<br />\nthe available treatment options. This is a free event<br />\nhowever seating is limited so please RSVP today.
LOCATION:Ravenswood Chiropractic & Wellness Center 5215 N. Ravenswood\, Suite 105 Chicago\, IL 60640
UID:e.697.1317
SEQUENCE:3
DTSTAMP:20260420T122728Z
URL:https://www.lincolnsquare.org/events/details/autism-spectrum-disorders-adhd-1317
END:VEVENT

END:VCALENDAR
