BEGIN:VCALENDAR
VERSION:2.0
PRODID:-//ChamberMaster//Event Calendar 2.0//EN
METHOD:PUBLISH
X-PUBLISHED-TTL:P3D
REFRESH-INTERVAL:P3D
CALSCALE:GREGORIAN
BEGIN:VEVENT
DTSTART:20111016T200000Z
DTEND:20111016T220000Z
X-MICROSOFT-CDO-ALLDAYEVENT:FALSE
SUMMARY:Bach & Beyond Ensemble: Mozart's Spatzenmesse Concert
DESCRIPTION:"Das Konzert und die Masse"\n\n\n\nFeaturing: Jorie Butler-Geyer-Violin as 2011 Young Artist Concerto SoloistBach and Beyond Chorus and Orchestra in Mozart's Spatzenmesse in C Major\, KV 220 Catered Dinner Included With Purchase TICKETS PRE-SALE: Adult $20|Senior $18 (DANK Member $15)
X-ALT-DESC;FMTTYPE=text/html:&quot\;Das Konzert und die Masse&quot\;<br />\n<br />\nFeaturing: Jorie Butler-Geyer-Violin as 2011 Young Artist Concerto SoloistBach and Beyond Chorus and Orchestra in Mozart&#39\;s Spatzenmesse in C Major\, KV 220 Catered Dinner Included With Purchase TICKETS PRE-SALE: Adult $20|Senior $18 (DANK Member $15)
LOCATION:4740 N. Western Ave. 5th Floor
UID:e.697.1912
SEQUENCE:3
DTSTAMP:20260420T094754Z
URL:https://www.lincolnsquare.org/events/details/bach-beyond-ensemble-mozart-s-spatzenmesse-concert-1912
END:VEVENT

END:VCALENDAR
