BEGIN:VCALENDAR
VERSION:2.0
PRODID:-//ChamberMaster//Event Calendar 2.0//EN
METHOD:PUBLISH
X-PUBLISHED-TTL:P3D
REFRESH-INTERVAL:P3D
CALSCALE:GREGORIAN
BEGIN:VEVENT
DTSTART:20111029T170000Z
DTEND:20111029T200000Z
X-MICROSOFT-CDO-ALLDAYEVENT:FALSE
SUMMARY:Bacon Sausage Samplers
DESCRIPTION:Stop by Lincoln Quality Meats on Saturday\, October 29th from 12pm to 3pm and try a sample of\n\n	Big Fork Bacon Sausage.\n\n	\n\n	We'll be right on the corner of Leland and Lincoln in front of Lincoln Quality Meat Market\, Inc.
X-ALT-DESC;FMTTYPE=text/html:<p style="text-align: center">\n	<br />\n	<span style="font-size: 14px">Stop by Lincoln Quality Meats on Saturday\, October 29th from 12pm to 3pm and try a sample of<br />\n	<strong>Big Fork Bacon Sausage.</strong><br />\n	<br />\n	We&#39\;ll be right on the corner of Leland and Lincoln in front of Lincoln Quality Meat Market\, Inc.</span></p>\n
LOCATION:On the corner of Lincoln and Leland in front of Lincoln Quality Meat Market\, Inc.
UID:e.697.2190
SEQUENCE:3
DTSTAMP:20260420T094126Z
URL:https://www.lincolnsquare.org/events/details/bacon-sausage-samplers-2190
END:VEVENT

END:VCALENDAR
