BEGIN:VCALENDAR
VERSION:2.0
PRODID:-//ChamberMaster//Event Calendar 2.0//EN
METHOD:PUBLISH
X-PUBLISHED-TTL:P3D
REFRESH-INTERVAL:P3D
CALSCALE:GREGORIAN
BEGIN:VEVENT
DTSTART:20120125T010000Z
DTEND:20120125T020000Z
X-MICROSOFT-CDO-ALLDAYEVENT:FALSE
SUMMARY:Beat 1911 CAPS Meeting
DESCRIPTION:Public Service Announcement\n \n\nFor Immediate Release\n\n                                   \n\nBeat 1911 C.A.P.S. Meeting\n\n \n\nAll concerned citizens residing between Lawrence and Montrose and Damen and the Chicago River are invited to attend the next Beat 1911 Meeting on Tuesday\, January 24\, on the 6th floor at Kindred Hospital\, 2544 W. Montrose Avenue\, beginning at 7:00 pm.   \n\n \n\nIf you have observed any criminal\, drug or gang activity in your area\, Beat Meetings give you the opportunity to express your concerns.  All citizens can help with crime reporting and crime prevention by lending the Chicago Police Department their ears and eyes.  By working together\, we can have a safer community. \n\n \n\nFor further information\, please contact the 19th District Community Policing Office at 312-744-5574.\n\n \n\n\n\nMaria Bappert\n\nBeat 1911 Facilitator\n\n773-989-7211 (M-F\, 8:30   12:30)
X-ALT-DESC;FMTTYPE=text/html:<h1>\n	Public Service Announcement</h1>\n&nbsp\;<br />\n<strong>For Immediate Release</strong><br />\n&nbsp\;&nbsp\;&nbsp\;&nbsp\;&nbsp\;&nbsp\;&nbsp\;&nbsp\;&nbsp\;&nbsp\;&nbsp\;&nbsp\;&nbsp\;&nbsp\;&nbsp\;&nbsp\;&nbsp\;&nbsp\;&nbsp\;&nbsp\;&nbsp\;&nbsp\;&nbsp\; &nbsp\;&nbsp\;&nbsp\;&nbsp\;&nbsp\;&nbsp\;&nbsp\;&nbsp\;&nbsp\;&nbsp\;&nbsp\;<br />\n<strong><u>Beat 1911 C.A.P.S. Meeting</u></strong><br />\n&nbsp\;<br />\n<strong>All concerned citizens residing between Lawrence and Montrose and Damen and the Chicago River are invited to attend the next Beat 1911 Meeting on <u>Tuesday\, January 24\,</u> on the 6<sup>th</sup> floor at Kindred Hospital\, 2544 W. Montrose Avenue\, beginning at 7:00 pm.&nbsp\; &nbsp\;</strong><br />\n&nbsp\;<br />\n<strong>If you have observed any criminal\, drug or gang activity in your area\, Beat Meetings give you the opportunity to express your concerns.&nbsp\; All citizens can help with crime reporting and crime prevention by lending the Chicago Police Department their ears and eyes.&nbsp\; By working together\, we can have a safer community. </strong><br />\n&nbsp\;<br />\n<strong>For further information\, please contact the 19<sup>th</sup> District Community Policing Office at 312-744-5574.</strong><br />\n&nbsp\;<br />\n<br />\n<strong>Maria Bappert</strong><br />\n<strong>Beat 1911 Facilitator</strong><br />\n<strong><span style="font-family:times new roman\,serif\;"><span style="font-size:12.0pt\;">773-989-7211 (M-F\, 8:30 &ndash\; 12:30)</span></span></strong>
LOCATION:6th Floor at Kindred Hospital 2544 W. Montrose Avenue
UID:e.697.2457
SEQUENCE:3
DTSTAMP:20260420T045756Z
URL:https://www.lincolnsquare.org/events/details/beat-1911-caps-meeting-2457
END:VEVENT

END:VCALENDAR
