BEGIN:VCALENDAR
VERSION:2.0
PRODID:-//ChamberMaster//Event Calendar 2.0//EN
METHOD:PUBLISH
X-PUBLISHED-TTL:P3D
REFRESH-INTERVAL:P3D
CALSCALE:GREGORIAN
BEGIN:VEVENT
DTSTART:20120616T180000Z
DTEND:20120616T210000Z
X-MICROSOFT-CDO-ALLDAYEVENT:FALSE
SUMMARY:Bethany Retirement JUNE FEST
DESCRIPTION:122nd Annual JUNE FEST of Bethany Retirement Community!\n\nCome and enjoy Food\, Games\, Clowns\, Music\, Pony Rides and a Petting Zoo at this family-friendly event!
X-ALT-DESC;FMTTYPE=text/html:122nd Annual JUNE FEST of Bethany Retirement Community!<br />\nCome and enjoy Food\, Games\, Clowns\, Music\, Pony Rides and a Petting Zoo at this family-friendly event!
LOCATION:Heritage Garden 4950 N. Ashland Avenue Chicago\, IL 60640
UID:e.697.2797
SEQUENCE:3
DTSTAMP:20260419T202257Z
URL:https://www.lincolnsquare.org/events/details/bethany-retirement-june-fest-2797
END:VEVENT

END:VCALENDAR
