BEGIN:VCALENDAR
VERSION:2.0
PRODID:-//ChamberMaster//Event Calendar 2.0//EN
METHOD:PUBLISH
X-PUBLISHED-TTL:P3D
REFRESH-INTERVAL:P3D
CALSCALE:GREGORIAN
BEGIN:VEVENT
DTSTART:20110604T170000Z
DTEND:20110604T180000Z
X-MICROSOFT-CDO-ALLDAYEVENT:FALSE
SUMMARY:BETHANY RETIREMENT OPEN HOUSE/PIE TASTING EVENT!
DESCRIPTION:Looking for Senior Housing??\n\n	Come to Bethany Retirement Community's OPEN HOUSE & PIE TASTING ON SAT.\, JUNE 4 @ 1:00 P.M.\n\n	Join others for a tour of this wonderful and affordable community while enjoying a slice of pie!  Yumm!\n\n	RSVP - 773-293-5563\n\n	SEATING IS LIMITED!  SEE YOU THERE!
X-ALT-DESC;FMTTYPE=text/html:<p>\n	Looking for Senior Housing??<br />\n	Come to Bethany Retirement Community&#39\;s OPEN HOUSE &amp\; PIE TASTING ON SAT.\, JUNE 4 @ 1:00 P.M.<br />\n	Join others for a tour of this wonderful and affordable community while enjoying a slice of pie!&nbsp\; Yumm!<br />\n	RSVP - 773-293-5563<br />\n	SEATING IS LIMITED!&nbsp\; SEE YOU THERE!</p>\n
LOCATION:4950 N. ASHLAND AVE. CHICAGO\, IL 60640
UID:e.697.879
SEQUENCE:3
DTSTAMP:20260420T155436Z
URL:https://www.lincolnsquare.org/events/details/bethany-retirement-open-house-pie-tasting-event-879
END:VEVENT

END:VCALENDAR
