BEGIN:VCALENDAR
VERSION:2.0
PRODID:-//ChamberMaster//Event Calendar 2.0//EN
METHOD:PUBLISH
X-PUBLISHED-TTL:P3D
REFRESH-INTERVAL:P3D
CALSCALE:GREGORIAN
BEGIN:VEVENT
DTSTART:20100605T130000Z
DTEND:20100605T210000Z
X-MICROSOFT-CDO-ALLDAYEVENT:FALSE
SUMMARY:BIG Neighborhood Market
DESCRIPTION:Rain or Shine Outdoor Market selling Antiques\, Jewelry\, Furniture\,Ceramics\, Arts & Crafts\, Toys  and more.
X-ALT-DESC;FMTTYPE=text/html:Rain or Shine Outdoor Market selling Antiques\, Jewelry\, Furniture\,Ceramics\, Arts &amp\; Crafts\, Toys  and more.
LOCATION:2150 W. Lawrence Ave.
UID:e.697.517
SEQUENCE:3
DTSTAMP:20260421T105049Z
URL:https://www.lincolnsquare.org/events/details/big-neighborhood-market-517
END:VEVENT

END:VCALENDAR
