BEGIN:VCALENDAR
VERSION:2.0
PRODID:-//ChamberMaster//Event Calendar 2.0//EN
METHOD:PUBLISH
X-PUBLISHED-TTL:P3D
REFRESH-INTERVAL:P3D
CALSCALE:GREGORIAN
BEGIN:VEVENT
DTSTART:20120630T140000Z
DTEND:20120630T180000Z
X-MICROSOFT-CDO-ALLDAYEVENT:FALSE
SUMMARY:Book Drive - A Fundraiser benefitting open books
DESCRIPTION:Earn a $200 Portrait Credit to Jookie!\n\nStart cleaning off your book shelves and colleting gently used books to bring by Jookie Saturday\, June 30th\, between 9 am and 1 pm. The books will be donated to Open Books book store. Whoever brings the most books will win the $200 credit to Jookie. All are welcome to participate!
X-ALT-DESC;FMTTYPE=text/html:Earn a $200 Portrait Credit to Jookie!<br />\nStart cleaning off your book shelves and colleting gently used books to bring by Jookie Saturday\, June 30<sup>th</sup>\, between 9 am and 1 pm. The books will be donated to Open Books book store. Whoever brings the most books will win the $200 credit to Jookie. All are welcome to participate!
LOCATION:@ Jookie - A Portrait Boutique 4656 North Rockwell Street Chicago\, IL 60625
UID:e.697.3584
SEQUENCE:3
DTSTAMP:20260419T202558Z
URL:https://www.lincolnsquare.org/events/details/book-drive-a-fundraiser-benefitting-open-books-3584
END:VEVENT

END:VCALENDAR
