BEGIN:VCALENDAR
VERSION:2.0
PRODID:-//ChamberMaster//Event Calendar 2.0//EN
METHOD:PUBLISH
X-PUBLISHED-TTL:P3D
REFRESH-INTERVAL:P3D
CALSCALE:GREGORIAN
BEGIN:VEVENT
DTSTART:20110608T233000Z
DTEND:20110609T023000Z
X-MICROSOFT-CDO-ALLDAYEVENT:FALSE
SUMMARY:Book Signing at Trattoria Trullo
DESCRIPTION:Viktorija Todorovska author of "The Puglian Cookbook" will be at Trattoria Trullo signing her book! Puglia is a specific region in Italy in which Trattoria Trullo has mastered its cuisine! \n\n\n\nStarts at 6:30pm - Offering Appetizers and wine! Stop In!
X-ALT-DESC;FMTTYPE=text/html:Viktorija Todorovska author of &quot\;The Puglian Cookbook&quot\; will be at Trattoria Trullo signing her book! Puglia is a specific region in Italy in which Trattoria Trullo has mastered its cuisine!&nbsp\;<br />\n<br />\nStarts at 6:30pm - Offering Appetizers and wine! Stop In!
LOCATION:4767 N Lincoln Ave
UID:e.697.903
SEQUENCE:3
DTSTAMP:20260420T160058Z
URL:https://www.lincolnsquare.org/events/details/book-signing-at-trattoria-trullo-903
END:VEVENT

END:VCALENDAR
