BEGIN:VCALENDAR
VERSION:2.0
PRODID:-//ChamberMaster//Event Calendar 2.0//EN
METHOD:PUBLISH
X-PUBLISHED-TTL:P3D
REFRESH-INTERVAL:P3D
CALSCALE:GREGORIAN
BEGIN:VEVENT
DTSTART:20110626T200000Z
DTEND:20110626T220000Z
X-MICROSOFT-CDO-ALLDAYEVENT:FALSE
SUMMARY:Booze\, Food & Beer @ The Grafton with co-hosts Provenance Food & Wine
DESCRIPTION:Provenance Food & Wine is partnering with The Grafton Pub once again for another "Small Bites" event.\n\nJoin us for this casual\, walk-around tasting. Delights will include:\n\n\n\n*Hook's Cheeses (WI) with Bridgeport Highland Ambush Scotch Ale\n\n*BBQ Pulled Pork with Bulleit Bourbon\n\n*Spencer's Jolly Posh Bangers with Bulleit Bourbon\n\n*Jo Snow Sno Cones with Leopold Brothers Gin & Cherry Liqueur\n\n\n\nLive Irish music begins at 4pm.\n\n$30 in advance\, $40 day of event. Tickets are limited. For more details\, email ben@thegrafton.com\n\n\n\nPurchase tickets at www.brownpapertickets.com\; keyword "Grafton"
X-ALT-DESC;FMTTYPE=text/html:Provenance Food &amp\; Wine is partnering with The Grafton Pub once again for another &quot\;Small Bites&quot\; event.<br />\nJoin us for this casual\, walk-around tasting. Delights will include:<br />\n<br />\n*Hook&#39\;s Cheeses (WI) with Bridgeport Highland Ambush Scotch Ale<br />\n*BBQ Pulled Pork with Bulleit Bourbon<br />\n*Spencer&#39\;s Jolly Posh Bangers with Bulleit Bourbon<br />\n*Jo Snow Sno Cones with Leopold Brothers Gin &amp\; Cherry Liqueur<br />\n<br />\nLive Irish music begins at 4pm.<br />\n$30 in advance\, $40 day of event. Tickets are limited. For more details\, email ben@thegrafton.com<br />\n<br />\nPurchase tickets at www.brownpapertickets.com\; keyword &quot\;Grafton&quot\;<br />\n<br />\n
LOCATION:The Grafton Pub 4530 N. Lincoln Avenue
UID:e.697.905
SEQUENCE:3
DTSTAMP:20260420T160636Z
URL:https://www.lincolnsquare.org/events/details/booze-food-beer-the-grafton-with-co-hosts-provenance-food-wine-905
END:VEVENT

END:VCALENDAR
