BEGIN:VCALENDAR
VERSION:2.0
PRODID:-//ChamberMaster//Event Calendar 2.0//EN
METHOD:PUBLISH
X-PUBLISHED-TTL:P3D
REFRESH-INTERVAL:P3D
CALSCALE:GREGORIAN
BEGIN:VEVENT
DTSTART;VALUE=DATE:20111218
DTEND;VALUE=DATE:20111219
TRANSP:TRANSPARENT
X-MICROSOFT-CDO-ALLDAYEVENT:TRUE
SUMMARY:Breakfast with Santa
DESCRIPTION:Santa will be visiting Pizza D.O.C. for brunch! Bring all the kids in to make sure they get just what they want this holiday season!
X-ALT-DESC;FMTTYPE=text/html:Santa will be visiting Pizza D.O.C. for brunch! Bring all the kids in to make sure they get just what they want this holiday season!
LOCATION:Pizza D.O.C. 2251 W. Lawrence Ave.
UID:e.697.2447
SEQUENCE:3
DTSTAMP:20260420T060811Z
URL:https://www.lincolnsquare.org/events/details/breakfast-with-santa-2447
END:VEVENT

END:VCALENDAR
