BEGIN:VCALENDAR
VERSION:2.0
PRODID:-//ChamberMaster//Event Calendar 2.0//EN
METHOD:PUBLISH
X-PUBLISHED-TTL:P3D
REFRESH-INTERVAL:P3D
CALSCALE:GREGORIAN
BEGIN:VEVENT
DTSTART:20120521T233000Z
DTEND:20120522T004500Z
X-MICROSOFT-CDO-ALLDAYEVENT:FALSE
SUMMARY:"Building a Local Food System" Community Meeting
DESCRIPTION:"Building a Local Food System"\n\n	Community Meeting \n\n	\n\n	JOIN US on Monday\, May 21\, 2012 from 6:30pm   7:45pm\n\n	\n\n	PREPARE for the new season\n\n	LEARN about safe food handling\n\n	VOLUNTEER for one shift or several \n\n\nRavenswood Community Services\n\n1757 West Wilson Avenue (at All Saint's Episcopal Church)\n\nenter the west doors on Wilson - stairs down to the kitchen \n\n\n\nRSVP your attendance to Les@NNCenters.org\, or 773-339-5915 www.NNCenters.org\n\n\n\nGROW LOCAL   EAT LOCAL   FEED YOUR NEIGHBOR
X-ALT-DESC;FMTTYPE=text/html:<p style="text-align: center\;">\n	<span style="font-size:18px\;"><strong><span style="font-family: arial\,sans-serif\;">&ldquo\;Building a Local Food System&rdquo\;<br />\n	<em>Community Meeting</em> </span></strong></span><br />\n	<br />\n	<strong><span style="font-size:14px\;"><span style="font-family: arial\,sans-serif\;">JOIN US on Monday\, May 21\, 2012 from 6:<span>30pm</span> &ndash\; 7:<span>45pm</span></span></span></strong><br />\n	<br />\n	<span style="font-size:16px\;"><span style="font-family: arial\,sans-serif\;"><strong>PREPARE</strong> for the new season<br />\n	<strong>LEARN</strong> about safe food handling<br />\n	<strong>VOLUNTEER</strong> for one shift or several </span></span></p>\n<br />\n<span style="font-family:arial\,sans-serif\;"><span style="font-size:10.0pt\;">Ravenswood Community Services<br />\n1757 West Wilson Avenue (at All Saint&rsquo\;s Episcopal Church)<br />\n<em>enter the west doors on Wilson - stairs down to the kitchen </em><br />\n<br />\nRSVP your attendance to <a href="mailto:Les@NNCenters.org">Les@NNCenters.org</a>\, or 773-339-5915 <a href="http://www.NNCenters.org">www.NNCenters.org</a><br />\n<br />\nGROW LOCAL &ndash\; EAT LOCAL &ndash\; FEED YOUR NEIGHBOR </span></span>
LOCATION:Ravenswood Community Services 1757 West Wilson Avenue (at All Saint's Episcopal Church) Enter the west doors on Wilson - stairs down to the kitchen
UID:e.697.2791
SEQUENCE:3
DTSTAMP:20260419T235708Z
URL:https://www.lincolnsquare.org/events/details/building-a-local-food-system-community-meeting-2791
END:VEVENT

END:VCALENDAR
