BEGIN:VCALENDAR
VERSION:2.0
PRODID:-//ChamberMaster//Event Calendar 2.0//EN
METHOD:PUBLISH
X-PUBLISHED-TTL:P3D
REFRESH-INTERVAL:P3D
CALSCALE:GREGORIAN
BEGIN:VEVENT
DTSTART:20100821T133000Z
DTEND:20100822T010000Z
X-MICROSOFT-CDO-ALLDAYEVENT:FALSE
SUMMARY:Bundesliga Breakfast
DESCRIPTION:World Cup may be over - but with an eye to EuroCup 2012 and just our general obsession with the fussball\n\nSCDANK brings you Bundesliga Breakfast - Free admission\, refreshments available
X-ALT-DESC;FMTTYPE=text/html:World Cup may be over - but with an eye to EuroCup 2012 and just our general obsession with the fussball\n<br>SCDANK brings you Bundesliga Breakfast - Free admission\, refreshments available
LOCATION:4740 N Western Ave
UID:e.697.587
SEQUENCE:3
DTSTAMP:20260421T082226Z
URL:https://www.lincolnsquare.org/events/details/bundesliga-breakfast-587
END:VEVENT

END:VCALENDAR
