BEGIN:VCALENDAR
VERSION:2.0
PRODID:-//ChamberMaster//Event Calendar 2.0//EN
METHOD:PUBLISH
X-PUBLISHED-TTL:P3D
REFRESH-INTERVAL:P3D
CALSCALE:GREGORIAN
BEGIN:VEVENT
DTSTART:20100821T163000Z
DTEND:20100821T183000Z
X-MICROSOFT-CDO-ALLDAYEVENT:FALSE
SUMMARY:Bundesliga Breakfast: Hamburger SV-FC Schalke 04
DESCRIPTION:
X-ALT-DESC;FMTTYPE=text/html:
LOCATION:4740 N Western\, Chicago
UID:e.697.616
SEQUENCE:3
DTSTAMP:20260421T083125Z
URL:https://www.lincolnsquare.org/events/details/bundesliga-breakfast-hamburger-sv-fc-schalke-04-616
END:VEVENT

END:VCALENDAR
