BEGIN:VCALENDAR
VERSION:2.0
PRODID:-//ChamberMaster//Event Calendar 2.0//EN
METHOD:PUBLISH
X-PUBLISHED-TTL:P3D
REFRESH-INTERVAL:P3D
CALSCALE:GREGORIAN
BEGIN:VEVENT
DTSTART:20120807T210000Z
DTEND:20120809T230000Z
X-MICROSOFT-CDO-ALLDAYEVENT:FALSE
SUMMARY:Bus Rapid Transit - Traveling Exhibit Comes to 6 CTA Bus & Train Stops
DESCRIPTION:Bus Rapid Transit Advocates Bring Traveling Exhibit to Transit Riders\n\n	at Six CTA Bus and Train Stops\n\n	August 7th - 9th\n\n	\n\n	 \n\n	WHAT:\n\n	\n\n	BRT is an exciting new mode of public transportation that reinvents the bus\, offering a better transit experience with the reliability\, efficiency and speed of a train. Chicago is currently conducting a BRT planning study for the Western/Ashland corridor\, building upon existing implementation for BRT routes along Jeffery Avenue on the Southside and in Chicago's Central Business District. The Active Transportation Alliance\, Metropolitan Planning Council and Chicago Architecture Foundation are partnering to bring a traveling exhibit about Bus Rapid Transit (BRT) to six CTA bus and train stops Aug. 7 to 9. BRT in Chicago will improve the quality of life in our neighborhoods\, by providing better access to jobs and services\, reducing traffic congestion\, and making our streets more attractive and safer. \n\n	\n\n	 Transit riders will have the opportunity to learn more about exciting plans to improve transit and get involved in support of BRT. The three-day traveling exhibit will end with an evening happy hour exhibit and celebration. The exhibit is a condensed version of the Bus Rapid Transit: Next Stop Chicago exhibit currently on display at the Chicago Architecture Foundation\, 224 S. Michigan Ave.\, 9:30AM to 5PM daily.\n\n	\n\n	More information about BRT in Chicago is available at http://www.brtchicago.com. Transit riders can take action online in support of Bus Rapid Transit at http://www.tinyurl.com/BRT2012.\n\n	 \n\n	WHEN/WHERE:        \n\n	\n\n	Tue.\, Aug. 7\n\n	4-6PM Western bus stop at Addison (west side of street)\n\n	4-6PM Ashland bus stop at 79th (west side of street)\n\n	 \n\n	Wed.\, Aug. 8\n\n	4-6PM Western Orange Line CTA (outside station)\n\n	4-6PM Ashland bus stop at 18th (east side of street)\n\n	 \n\n	Thur.\, Aug. 9\n\n	4-6PM Western Brown Line CTA (outside station)\n\n	4-6PM Division Blue Line CTA (outside station)\n\n	6:30-8PM Bus Rapid Transit Happy Hour Exhibit at Bad Dog Tavern (4535 N. Lincoln Ave.\, Chicago)
X-ALT-DESC;FMTTYPE=text/html:<p style="text-align: center\;">\n	<span style="font-size:16px\;"><strong><span style="font-family: arial\,sans-serif\;">Bus Rapid Transit Advocates Bring Traveling Exhibit to Transit Riders<br />\n	at Six CTA Bus and Train Stops<br />\n	August 7<sup>th</sup> - 9<sup>th</sup></span></strong></span><br />\n	<br />\n	&nbsp\;</p>\n<p>\n	<span style="font-family:arial\,sans-serif\;"><span style="font-size:14px\;"><u><strong>WHAT:</strong></u></span><br />\n	<br />\n	<span style="color:#000000\;"><span style="font-size: 12px\;">BRT is an exciting new mode of public transportation that reinvents the bus\, offering a better transit experience with the reliability\, efficiency and speed of a train. Chicago is currently conducting a BRT planning study for the Western/Ashland corridor\, building upon existing implementation for BRT routes along Jeffery Avenue on the Southside and in Chicago&rsquo\;s Central Business District. The Active Transportation Alliance\, Metropolitan Planning Council and Chicago Architecture Foundation are partnering to bring a traveling exhibit about Bus Rapid Transit (BRT) to six CTA bus and train stops Aug. 7 to 9. BRT in Chicago will improve the quality of life in our neighborhoods\, by providing better access to jobs and services\, reducing traffic congestion\, and making our streets more attractive and safer. </span></span></span><br />\n	<br />\n	<span style="color:#000000\;"> </span><span style="font-size:12px\;"><span style="color:#000000\;"><span style="font-family: arial\,sans-serif\;">Transit riders will have the opportunity to learn more about exciting plans to improve transit and get involved in support of BRT. The three-day traveling exhibit will end with an evening happy hour exhibit and celebration. The exhibit is a condensed version of the <em>Bus Rapid Transit: Next Stop Chicago</em> exhibit currently on display at the Chicago Architecture Foundation\, 224 S. Michigan Ave.\, 9:30AM to 5PM daily.</span></span><br />\n	<br />\n	<span style="color: black\;"><span style="font-family: arial\,sans-serif\;">More information about BRT in Chicago is available at <a href="http://www.brtchicago.com">http://www.brtchicago.com</a>. Transit riders can take action online in support of Bus Rapid Transit at <a href="http://www.tinyurl.com/BRT2012">http://www.tinyurl.com/BRT2012</a>.</span></span></span><br />\n	&nbsp\;<br />\n	<span style="color:black\;"><span style="font-family:arial\,sans-serif\;"><u><strong><span style="font-size:14px\;">WHEN/WHERE:</span></strong></u> &nbsp\;&nbsp\;&nbsp\;&nbsp\;&nbsp\;&nbsp\;&nbsp\;<br />\n	<br />\n	<em><span style="font-size:12px\;">Tue.\, Aug. 7</span></em></span></span><br />\n	<span style="font-size:12px\;"><span style="color: black\;"><span style="font-family: arial\,sans-serif\;">4-6PM Western bus stop at Addison (west side of street)</span></span><br />\n	<span style="color: black\;"><span style="font-family: arial\,sans-serif\;">4-6PM Ashland bus stop at 79th (west side of street)</span></span><br />\n	&nbsp\;<br />\n	<em><span style="color: black\;"><span style="font-family: arial\,sans-serif\;">Wed.\, Aug. 8</span></span></em><br />\n	<span style="color: black\;"><span style="font-family: arial\,sans-serif\;">4-6PM Western Orange Line CTA (outside station)</span></span><br />\n	<span style="color: black\;"><span style="font-family: arial\,sans-serif\;">4-6PM Ashland bus stop at 18th (east side of street)</span></span><br />\n	&nbsp\;<br />\n	<em><span style="color: black\;"><span style="font-family: arial\,sans-serif\;">Thur.\, Aug. 9</span></span></em><br />\n	<span style="color: black\;"><span style="font-family: arial\,sans-serif\;">4-6PM Western Brown Line CTA (outside station)</span></span><br />\n	<span style="color: black\;"><span style="font-family: arial\,sans-serif\;">4-6PM Division Blue Line CTA (outside station)</span></span><br />\n	<span style="color: black\;"><span style="font-family: arial\,sans-serif\;">6:30-8PM Bus Rapid Transit Happy Hour Exhibit at Bad Dog Tavern (4535 N. Lincoln Ave.\, Chicago)</span></span></span><br />\n	&nbsp\;</p>\n
LOCATION:Various Locations Along the Ashland and Western Corridors
UID:e.697.3616
SEQUENCE:3
DTSTAMP:20260420T171205Z
URL:https://www.lincolnsquare.org/events/details/bus-rapid-transit-traveling-exhibit-comes-to-6-cta-bus-train-stops-3616
END:VEVENT

END:VCALENDAR
