BEGIN:VCALENDAR
VERSION:2.0
PRODID:-//ChamberMaster//Event Calendar 2.0//EN
METHOD:PUBLISH
X-PUBLISHED-TTL:P3D
REFRESH-INTERVAL:P3D
CALSCALE:GREGORIAN
BEGIN:VEVENT
DTSTART:20110914T230000Z
DTEND:20110915T003000Z
X-MICROSOFT-CDO-ALLDAYEVENT:FALSE
SUMMARY:Business Income Tax Problem Workshop
DESCRIPTION:Wednesday\, September 14\, 2011\, 6:00PM   7:30PM - "Business Income Tax Problem Workshop"\n\nAccounting Solutions\, 3035 West Montrose\, Chicago\n\n\n\nThis FREE workshop is being offered by Accounting Solutions Ltd. and presented by Chris Amundson\, President of the organization. It will cover Business Income Tax preparation and documentation basics and solutions on surviving a business income tax audit. Whether you are a new or established business owner\, given the increases in income tax auditing and the difficulties surrounding this issue\, our workshop will be of value. Complimentary Hors d'oeuvres\, Beer\, Wine\, and Soft Drinks will be provided. For more information or to register\, please call 773-267-7500 or email Chris@AccountingSolutionsLtd.com.
X-ALT-DESC;FMTTYPE=text/html:<br />\n<span style="font-size: 9pt"><span style="color: #222222"><span style="font-family: arial\, sans-serif"><strong><span style="font-family: arial\, sans-serif">Wednesday\, September 14\, 2011\, 6:00PM &ndash\; 7:30PM - &ldquo\;Business Income Tax Problem Workshop&rdquo\;</span></strong></span><br />\nAccounting Solutions\, 3035 West Montrose\, Chicago<br />\n<br />\nThis FREE workshop is being offered by Accounting Solutions Ltd. and presented by Chris Amundson\, President of the organization. It will cover Business Income Tax preparation and documentation basics and solutions on surviving a business income tax audit. Whether you are a new or established business owner\, given the increases in income tax auditing and the difficulties surrounding this issue\, our workshop will be of value. Complimentary Hors d&#39\;oeuvres\, Beer\, Wine\, and Soft Drinks will be provided. For more information or to register\, please call 773-267-7500 or email <a href="mailto:Chris@AccountingSolutionsLtd.com"><span style="color: #0000ff">Chris@AccountingSolutionsLtd.com</span></a></span>.</span><br />\n
LOCATION:Accounting Solutions 3035 West Montrose\, Chicago
UID:e.697.1307
SEQUENCE:3
DTSTAMP:20260420T111601Z
URL:https://www.lincolnsquare.org/events/details/business-income-tax-problem-workshop-1307
END:VEVENT

END:VCALENDAR
