BEGIN:VCALENDAR
VERSION:2.0
PRODID:-//ChamberMaster//Event Calendar 2.0//EN
METHOD:PUBLISH
X-PUBLISHED-TTL:P3D
REFRESH-INTERVAL:P3D
CALSCALE:GREGORIAN
BEGIN:VEVENT
DTSTART:20120225T030000Z
DTEND:20120225T193000Z
X-MICROSOFT-CDO-ALLDAYEVENT:FALSE
SUMMARY:Cabaret Fundraiser
DESCRIPTION:Venture into the dark strasse and even darker cafes of Weimar Berlin with us.\n\nSomewhere through the haze of tobacco\, a sultry voice calls to you\, its gender erased by wine and liquor\, its message of heartbreak and heat warms your cheeks as the champagnes cools your lustig thirst.\n\n\n\nAnd you can only wish the caress of the ivory keys was for you.\n\n\n\n\n\nElizabeth Doyle seduces you with German & French sets and gets a little bawdy.\n\n\n\nTicket includes one glass of sparkling Sekt and appetizers.\n\n\n\nDoors open 8:30 pm\n\nPerformance begins 9:00pm\n\n\n\nParking considerations courtesy of MB Financial Bank at Western & Gunnison\n\n\n\n\n\nProceeds benefit DANK Haus Facade Restoration
X-ALT-DESC;FMTTYPE=text/html:Venture into the dark strasse and even darker cafes of Weimar Berlin with us.<br />\nSomewhere through the haze of tobacco\, a sultry voice calls to you\, its gender erased by wine and liquor\, its message of heartbreak and heat warms your cheeks as the champagnes cools your lustig thirst.<br />\n<br />\nAnd you can only wish the caress of the ivory keys was for you.<br />\n<br />\n<br />\nElizabeth Doyle seduces you with German &amp\; French sets and gets a little bawdy.<br />\n<br />\nTicket includes one glass of sparkling Sekt and appetizers.<br />\n<br />\nDoors open 8:30 pm<br />\nPerformance begins 9:00pm<br />\n<br />\nParking considerations courtesy of MB Financial Bank at Western &amp\; Gunnison<br />\n<br />\n<br />\nProceeds benefit DANK Haus Facade Restoration
LOCATION:
UID:e.697.2471
SEQUENCE:3
DTSTAMP:20260420T031744Z
URL:https://www.lincolnsquare.org/events/details/cabaret-fundraiser-2471
END:VEVENT

END:VCALENDAR
