BEGIN:VCALENDAR
VERSION:2.0
PRODID:-//ChamberMaster//Event Calendar 2.0//EN
METHOD:PUBLISH
X-PUBLISHED-TTL:P3D
REFRESH-INTERVAL:P3D
CALSCALE:GREGORIAN
BEGIN:VEVENT
DTSTART:20120816T210000Z
DTEND:20120817T010000Z
X-MICROSOFT-CDO-ALLDAYEVENT:FALSE
SUMMARY:CANINE ENCOUNTERS: A Pet Friendly Event
DESCRIPTION:Our next 3RD THURSDAY EVENT\n\nAUG 16 4-8pm\n\nCome! Here!\n\nDOG DAYS O'SUMMER\n\nA Pet Friendly Event!\n\nCANINE ENCOUNTER\n\n   Treats - Liquids - Discounts\n\n\n\nSee & Enjoy!\n\n"HOUND OF FAME"\n\nGALLERY OF DOGS\n\n(Aug 16 - Sept 16)\n\n\n\nAlso!\n\nONE TAIL AT A TIME DOG RESCUE\n\nMeet adoptables with Rich from Ruff Haus Pets\n\n\n\nAnd! \n\nPOOCH PHOTO-OPPOTUNITY\n\nWith Rob of RobHartPhoto\, 6-8pm only\n\nProfessional shoot\, digital image\, print...$10.\n\nFee goes to fund dog rescue efforts\n\nFraming discount with Granville Picture Framing
X-ALT-DESC;FMTTYPE=text/html:<span style="font-size:22px\;">Our next <u>3RD THURSDAY EVENT</u><br />\nAUG 16 4-8pm<br />\nCome! Here!<br />\nDOG DAYS O&#39\;SUMMER<br />\nA Pet Friendly Event!</span><br />\n<span style="font-size:28px\;"><strong>CANINE ENCOUNTER</strong></span><br />\n<span style="font-size:16px\;"><span style="font-size:20px\;">&nbsp\; &nbsp\;Treats - Liquids - Discounts</span><br />\n<br />\nSee &amp\; Enjoy!</span><br />\n<strong><span style="font-size:24px\;">&quot\;HOUND OF FAME&quot\;<br />\nGALLERY OF DOGS</span></strong><br />\n(Aug 16 - Sept 16)<br />\n<br />\n<span style="font-size:16px\;">Also!</span><br />\n<span style="font-size:18px\;"><strong>ONE TAIL AT A TIME DOG RESCUE</strong><br />\n<span style="font-size:14px\;">Meet adoptables with Rich from Ruff Haus Pets</span></span><br />\n<br />\n<span style="font-size:16px\;">And! </span><br />\n<strong><span style="font-size:18px\;">POOCH PHOTO-OPPOTUNITY</span></strong><br />\n<span style="font-size:14px\;">With Rob of RobHartPhoto\, 6-8pm only<br />\nProfessional shoot\, digital image\, print...$10.<br />\nFee goes to fund dog rescue efforts</span><br />\nFraming discount with Granville Picture Framing
LOCATION:Granville Picture Framing at LSQ 4757 N Lincoln Ave
UID:e.697.3618
SEQUENCE:3
DTSTAMP:20260420T170638Z
URL:https://www.lincolnsquare.org/events/details/canine-encounters-a-pet-friendly-event-3618
END:VEVENT

END:VCALENDAR
