BEGIN:VCALENDAR
VERSION:2.0
PRODID:-//ChamberMaster//Event Calendar 2.0//EN
METHOD:PUBLISH
X-PUBLISHED-TTL:P3D
REFRESH-INTERVAL:P3D
CALSCALE:GREGORIAN
BEGIN:VEVENT
DTSTART:20120823T210000Z
DTEND:20120824T010000Z
X-MICROSOFT-CDO-ALLDAYEVENT:FALSE
SUMMARY:CANINE ENCOUNTERS: A Pet Friendly Event
DESCRIPTION:THE DOG DAYS O'SUMMER\n\nCANINE ENCOUNTER\n\nA PET FRIENDLY EVENT\n\n\n\n"HOUND OF FAME"\n\n   GALLERY OF DOGS\n\nQUALITY PAINTINGS AND PRINTS\n\nOF ALL KIND OF DOGS\n\nBREED-PORTRAIT-IN THE FIELD-WHIMSICAL\n\n25% OFF ART AND FRAME COMBINATION\n\nTHURSDAY 8/23 ONLY\n\n\n\n"ONE TAIL AT A TIME"\n\nRESCUED DOGS AND RUFF HAUS PETS\n\nBRING YOU ADOBTABLES\n\nCOME FIND A NEW LOVE\n\n\n\n"POOCH PHOTO-OP'PORTUNITY\n\nWITH ROB OF ROB HART PHOTOGRAPHY. 6-8PM ONLY\n\nPROFESSIONAL SHOOT AND DIGITAL IMAGE\, $5.\n\nTHEN YOU GO ONLINE\, DOWNLOAD\, AND CHOOSE A PHOTO PRINT\, $10.\n\nALL PROCEEDS GOT TO RESCUE DOG FUNDING\n\nSPECIAL DISCOUNT FRAMING AT GRANVILLE PICTURE FRAMING
X-ALT-DESC;FMTTYPE=text/html:<span style="font-size: 20px">THE DOG DAYS O&#39\;SUMMER</span><br />\n<strong><span style="font-size: 26px">CANINE ENCOUNTER</span></strong><br />\n<span style="font-size: 22px">A PET FRIENDLY EVENT</span><br />\n<br />\n<strong><span style="font-size: 26px">&quot\;HOUND OF FAME&quot\;</span></strong><br />\n<span style="font-size: 22px">&nbsp\; &nbsp\;GALLERY OF DOGS</span><br />\n<span style="font-size: 14px">QUALITY PAINTINGS AND PRINTS<br />\nOF ALL KIND OF DOGS<br />\nBREED-PORTRAIT-IN THE FIELD-WHIMSICAL<br />\n25% OFF ART AND FRAME COMBINATION<br />\nTHURSDAY 8/23 ONLY</span><br />\n<br />\n<strong><span style="font-size: 26px">&quot\;ONE TAIL AT A TIME&quot\;</span></strong><br />\n<span style="font-size: 14px">RESCUED DOGS AND&nbsp\;RUFF HAUS PETS</span><br />\nBRING YOU ADOBTABLES<br />\nCOME FIND A NEW LOVE<br />\n<br />\n<strong><span style="font-size: 26px">&quot\;POOCH PHOTO-OP&#39\;PORTUNITY</span></strong><br />\n<span style="font-size: 14px">WITH ROB OF ROB HART PHOTOGRAPHY. 6-8PM ONLY<br />\nPROFESSIONAL SHOOT AND DIGITAL IMAGE\, $5.</span><br />\nTHEN YOU GO ONLINE\, DOWNLOAD\, AND CHOOSE A PHOTO PRINT\, $10.<br />\n<em>ALL PROCEEDS GOT TO RESCUE DOG FUNDING</em><br />\nSPECIAL DISCOUNT FRAMING AT GRANVILLE PICTURE FRAMING<br />\n
LOCATION:4757 N LINCOLN AVENUE
UID:e.697.3631
SEQUENCE:3
DTSTAMP:20260420T170639Z
URL:https://www.lincolnsquare.org/events/details/canine-encounters-a-pet-friendly-event-3631
END:VEVENT

END:VCALENDAR
