BEGIN:VCALENDAR
VERSION:2.0
PRODID:-//ChamberMaster//Event Calendar 2.0//EN
METHOD:PUBLISH
X-PUBLISHED-TTL:P3D
REFRESH-INTERVAL:P3D
CALSCALE:GREGORIAN
BEGIN:VEVENT
DTSTART:20111016T180000Z
DTEND:20111016T203000Z
X-MICROSOFT-CDO-ALLDAYEVENT:FALSE
SUMMARY:Chicago Area Ataxia Support Group
DESCRIPTION:A presentation and a Q&A session will be given by Pace Paratransit Van Service.\n\n\n\nStep out\, bring a snack\, learn something\, and have fun with some friends before the snow falls\, and locks you up for a while.
X-ALT-DESC;FMTTYPE=text/html:A presentation and a Q&amp\;A session will be given by Pace Paratransit Van Service.<br />\n<br />\nStep out\, bring a snack\, learn something\, and have fun with some friends before the snow falls\, and locks&nbsp\;you up for a while.<br />\n
LOCATION:Ravenswood Chiropractic & Wellness Center
UID:e.697.1926
SEQUENCE:3
DTSTAMP:20260420T094247Z
URL:https://www.lincolnsquare.org/events/details/chicago-area-ataxia-support-group-1926
END:VEVENT

END:VCALENDAR
